Workbook

Sheet  2023 rashodi
B1: NACRT PRIJEDLOGA PRORAČUNA OPĆINE ĐULOVAC ZA 2023. GOD. SA PROJEKCIJAMA 2024. I 2025. GODINA
D3: PRORAČUN 2022. (2. Rebalans) | E3: PRORAČUN 2022. (2. Rebalans) EUR | F3: PRORAČUN 2023. | G3: PRORAČUN 2023 EUR | H3: PROJEKCIJE 2024 | I3: PROJEKCIJE 2024 EUR | J3: PROJEKCIJE 2025 | K3: PROJEKCIJE 2025 EUR
A4: RAZDJEL 001 | B4: OPĆINA ĐULOVAC | D4: =SUM(D5+D15+D256+D296) -> 10734000 | E4: =SUM(E5+E15+E256+E296) -> 1424646.6 | F4: =SUM(F5+F15+F256+F296) -> 15670450 | G4: =SUM(F4/7.5345) -> 2079826.1 | H4: =SUM(H5+H15+H256+H296) -> 16292950 | I4: =SUM(I5+I15+I256+I296) -> 2162446.1 | J4: =SUM(J5+J15+J256+J296) -> 16163950 | K4: =SUM(K5+K15+K256+K296) -> 2145324.8
A5: GLAVA 00110 | B5: PREDSTAVNIČKO I IZVRŠNO TIJELO | D5: =SUM(D6) -> 410000 | E5: =SUM(E6) -> 54416.351 | F5: =SUM(F6) -> 450000 | G5: =SUM(F5/7.5345) -> 59725.264 | H5: =SUM(H6) -> 440000 | I5: =SUM(I6) -> 58398.036 | J5: =SUM(J6) -> 470000 | K5: =SUM(K6) -> 62379.72
A6: Program 1001 | B6: JAVNA UPRAVA | C6: pozicija | D6: =SUM(D7+D11+D13) -> 410000 | E6: =SUM(E7+E11+E13) -> 54416.351 | F6: =SUM(F7+F11+F13) -> 450000 | G6: =SUM(F6/7.5345) -> 59725.264 | H6: =SUM(H7+H11+H13) -> 440000 | I6: =SUM(I7+I11+I13) -> 58398.036 | J6: =SUM(J7+J11+J13) -> 470000 | K6: =SUM(K7+K11+K13) -> 62379.72
A7: račun | B7: Akt. A100101 Donošenje akata | C7: pozicija | D7: =SUM(D8:D10) -> 360000 | E7: =SUM(E8:E10) -> 47780.211 | F7: =SUM(F8:F10) -> 420000 | G7: =SUM(G8:G10) -> 55743.58 | H7: =SUM(H8:H10) -> 420000 | I7: =SUM(I8:I10) -> 55743.58 | J7: =SUM(J8:J10) -> 420000 | K7: =SUM(K8:K10) -> 55743.58
A8: 32911 | B8: Naknade vijećnicima | C8: 1 | D8: 90000 | E8: =SUM(D8)/7.5345 -> 11945.053 | F8: 100000 | G8: =SUM(F8)/7.5345 -> 13272.281 | H8: 100000 | I8: =SUM(H8)/7.5345 -> 13272.281 | J8: 100000 | K8: =SUM(J8)/7.5345 -> 13272.281
A9: 32911 | B9: naknade za rad općinskih dužnosnika | C9: 146 | D9: 250000 | E9: =SUM(D9)/7.5345 -> 33180.702 | F9: 300000 | G9: =SUM(F9)/7.5345 -> 39816.843 | H9: 300000 | I9: =SUM(H9)/7.5345 -> 39816.843 | J9: 300000 | K9: =SUM(J9)/7.5345 -> 39816.843
A10: 38311 | B10: proračunska pričuva | C10: 164 | D10: 20000 | E10: =SUM(D10)/7.5345 -> 2654.4562 | F10: 20000 | G10: =SUM(F10)/7.5345 -> 2654.4562 | H10: 20000 | I10: =SUM(H10)/7.5345 -> 2654.4562 | J10: 20000 | K10: =SUM(J10)/7.5345 -> 2654.4562
A11: račun | B11: Akt. A 100102 Provedba izbora | C11: pozicija | D11: =SUM(D12) -> 50000 | E11: =SUM(E12) -> 6636.1404 | F11: =SUM(F12) -> 20000 | G11: =SUM(G12) -> 2654.4562 | H11: =SUM(H12) -> 20000 | I11: =SUM(I12) -> 2654.4562 | J11: =SUM(J12) -> 50000 | K11: =SUM(K12) -> 6636.1404
A12: 38114 | B12: izbori i političke stranke | C12: 2 | D12: 50000 | E12: =SUM(D12)/7.5345 -> 6636.1404 | F12: 20000 | G12: =SUM(F12)/7.5345 -> 2654.4562 | H12: 20000 | I12: =SUM(H12)/7.5345 -> 2654.4562 | J12: 50000 | K12: =SUM(J12)/7.5345 -> 6636.1404
A13: 3831 | B13: Akt.100103 nova aktivnost-naknada štete pravnim i fizičkim osobama | C13: pozicija | D13: =SUM(D14) -> 0 | E13: =SUM(E14) -> 0 | F13: =SUM(F14) -> 10000 | G13: =SUM(G14) -> 1327.2281 | H13: =SUM(H14) -> 0 | I13: =SUM(I14) -> 0 | J13: =SUM(J14) -> 0 | K13: =SUM(K14) -> 0
A14: 3831 | B14: naknada štete fizičkoj osobi po sudskoj presudi | C14: 222 | D14: 0 | E14: =SUM(D14)/7.5345 -> 0 | F14: 10000 | G14: =SUM(F14)/7.5345 -> 1327.2281 | H14: 0 | I14: =SUM(H14)/7.5345 -> 0 | J14: 0 | K14: =SUM(J14)/7.5345 -> 0
A15: GLAVA 00120 | B15: JEDINSTVENI UPRAVNI ODJEL | D15: =SUM(D16+D76+D106+D167+D178+D196+D211+D221+D227+D233) -> 9197700 | E15: =SUM(E16+E76+E106+E167+E178+E196+E211+E221+E227+E233) -> 1220744.6 | F15: =SUM(F16+F76+F106+F167+F178+F196+F211+F221+F227+F233) -> 12171950 | G15: =SUM(G16+G76+G106+G167+G178+G196+G211+G221+G227+G233) -> 1615495.4 | H15: =SUM(H16+H76+H106+H167+H178+H196+H211+H221+H227+H233) -> 14504450 | I15: =SUM(I16+I76+I106+I167+I178+I196+I211+I221+I227+I233) -> 1925071.3 | J15: =SUM(J16+J76+J106+J167+J178+J196+J211+J221+J227+J233) -> 14295450 | K15: =SUM(K16+K76+K106+K167+K178+K196+K211+K221+K227+K233) -> 1897332.3
A16: Program 1002 | B16: JAVNA UPRAVA I ADMINISTRACIJA | C16: pozicija | D16: =SUM(D17+D29+D67+D70) -> 2196700 | E16: =SUM(E17+E29+E67+E70) -> 291552.19 | F16: =SUM(F17+F29+F67+F70) -> 2826750 | G16: =SUM(G17+G29+G67+G70) -> 375174.2 | H16: =SUM(H17+H29+H67+H70) -> 2274950 | I16: =SUM(I17+I29+I67+I70) -> 301937.75 | J16: =SUM(J17+J29+J67+J70) -> 2199950 | K16: =SUM(K17+K29+K67+K70) -> 291983.54
A17: račun | B17: Akt. A100201 Stručno administartivno i tehničko osoblje | C17: pozicija | D17: =SUM(D18:D28) -> 920000 | E17: =SUM(E18:E28) -> 122104.98 | F17: =SUM(F18:F28) -> 1158750 | G17: =SUM(G18:G28) -> 153792.55 | H17: =SUM(H18:H28) -> 1158750 | I17: =SUM(I18:I28) -> 153792.55 | J17: =SUM(J18:J28) -> 1158750 | K17: =SUM(K18:K28) -> 153792.55
A18: 31111 | B18: plaće za zaposlene | C18: 3 | D18: 620000 | E18: =SUM(D18)/7.5345 -> 82288.141 | F18: 800000 | G18: =SUM(F18)/7.5345 -> 106178.25 | H18: 800000 | I18: =SUM(H18)/7.5345 -> 106178.25 | J18: 800000 | K18: =SUM(J18)/7.5345 -> 106178.25
A19: 31211 | B19: bonus za uspješan rad | C19: 4 | D19: 60000 | E19: =SUM(D19)/7.5345 -> 7963.3685 | F19: 70000 | G19: =SUM(F19)/7.5345 -> 9290.5966 | H19: 70000 | I19: =SUM(H19)/7.5345 -> 9290.5966 | J19: 70000 | K19: =SUM(J19)/7.5345 -> 9290.5966
A20: 31213 | B20: darovi | C20: 5 | D20: 0 | E20: =SUM(D20)/7.5345 -> 0 | F20: 750 | G20: =SUM(F20)/7.5345 -> 99.542106 | H20: 750 | I20: =SUM(H20)/7.5345 -> 99.542106 | J20: 750 | K20: =SUM(J20)/7.5345 -> 99.542106
A21: 31219 | B21: ostali nenavedeni rashodi za zaposlene | C21: 6 | D21: 50000 | E21: =SUM(D21)/7.5345 -> 6636.1404 | F21: 50000 | G21: =SUM(F21)/7.5345 -> 6636.1404 | H21: 50000 | I21: =SUM(H21)/7.5345 -> 6636.1404 | J21: 50000 | K21: =SUM(J21)/7.5345 -> 6636.1404
A22: 31321 | B22: doprinosi za obvezno ZO 13% | C22: 7 | D22: 102000 | E22: =SUM(D22)/7.5345 -> 13537.726 | F22: 150000 | G22: =SUM(F22)/7.5345 -> 19908.421 | H22: 150000 | I22: =SUM(H22)/7.5345 -> 19908.421 | J22: 150000 | K22: =SUM(J22)/7.5345 -> 19908.421
A23: 32121 | B23: naknade za prijevoz s posla i na posao | C23: 9 | D23: 80000 | E23: =SUM(D23)/7.5345 -> 10617.825 | F23: 80000 | G23: =SUM(F23)/7.5345 -> 10617.825 | H23: 80000 | I23: =SUM(H23)/7.5345 -> 10617.825 | J23: 80000 | K23: =SUM(J23)/7.5345 -> 10617.825
A24: 32131 | B24: seminari, savjetovanja simpoziji | C24: 10 | D24: 6000 | E24: =SUM(D24)/7.5345 -> 796.33685 | F24: 6000 | G24: =SUM(F24)/7.5345 -> 796.33685 | H24: 6000 | I24: =SUM(H24)/7.5345 -> 796.33685 | J24: 6000 | K24: =SUM(J24)/7.5345 -> 796.33685
A25: 32141 | B25: naknada za korištenje privatnog automobila u službene svrhe | C25: 11 | D25: 2000 | E25: =SUM(D25)/7.5345 -> 265.44562 | F25: 2000 | G25: =SUM(F25)/7.5345 -> 265.44562 | H25: 2000 | I25: =SUM(H25)/7.5345 -> 265.44562 | J25: 2000 | K25: =SUM(J25)/7.5345 -> 265.44562
A26: 42311 | B26: kupnja službenog automobila | C26: 198 | D26: 0 | E26: =SUM(D26)/7.5345 -> 0 | F26: 0 | G26: =SUM(F26)/7.5345 -> 0 | H26: 0 | I26: =SUM(H26)/7.5345 -> 0 | J26: 0 | K26: =SUM(J26)/7.5345 -> 0
A27: 32999 | B27: ostali rashodi Poslovanja | C27: 237 | D27: 0 | E27: =SUM(D27)/7.5345 -> 0 | F27: 0 | G27: =SUM(F27)/7.5345 -> 0 | H27: 0 | I27: =SUM(H27)/7.5345 -> 0 | J27: 0 | K27: =SUM(J27)/7.5345 -> 0
A28: 32412 | B28: straučno osbosobljavanja Općina | C28: 260 | D28: 0 | E28: =SUM(D28)/7.5345 -> 0 | F28: 0 | G28: =SUM(F28)/7.5345 -> 0 | H28: 0 | I28: =SUM(H28)/7.5345 -> 0 | J28: 0 | K28: =SUM(J28)/7.5345 -> 0
A29: račun | B29: Akt. A 100202 Pripremanje akata iz djelokruga JU | C29: pozicija | D29: =SUM(D30:D66) -> 818000 | E29: =SUM(E30:E66) -> 108567.26 | F29: =SUM(F30:F66) -> 832000 | G29: =SUM(G30:G66) -> 110425.38 | H29: =SUM(H30:H66) -> 852000 | I29: =SUM(I30:I66) -> 113079.83 | J29: =SUM(J30:J66) -> 882000 | K29: =SUM(K30:K66) -> 117061.52
A30: 32211 | B30: uredski materijal | C30: 12 | D30: 10000 | E30: =SUM(D30)/7.5345 -> 1327.2281 | F30: 10000 | G30: =SUM(F30)/7.5345 -> 1327.2281 | H30: 10000 | I30: =SUM(H30)/7.5345 -> 1327.2281 | J30: 10000 | K30: =SUM(J30)/7.5345 -> 1327.2281
A31: 32212 | B31: literatura | C31: 13 | D31: 500 | E31: =SUM(D31)/7.5345 -> 66.361404 | F31: 2000 | G31: =SUM(F31)/7.5345 -> 265.44562 | H31: 2000 | I31: =SUM(H31)/7.5345 -> 265.44562 | J31: 2000 | K31: =SUM(J31)/7.5345 -> 265.44562
A32: 32213 | B32: arhivski materijal | C32: 14 | D32: 35000 | E32: =SUM(D32)/7.5345 -> 4645.2983 | F32: 1000 | G32: =SUM(F32)/7.5345 -> 132.72281 | H32: 1000 | I32: =SUM(H32)/7.5345 -> 132.72281 | J32: 1000 | K32: =SUM(J32)/7.5345 -> 132.72281
A33: 32214 | B33: materijal i sredstva za čišćenje i održavanje | C33: 15 | D33: 4000 | E33: =SUM(D33)/7.5345 -> 530.89123 | F33: 4000 | G33: =SUM(F33)/7.5345 -> 530.89123 | H33: 4000 | I33: =SUM(H33)/7.5345 -> 530.89123 | J33: 4000 | K33: =SUM(J33)/7.5345 -> 530.89123
A34: 32219 | B34: obilježavanje značajnih datuma | C34: 16 | D34: 15000 | E34: =SUM(D34)/7.5345 -> 1990.8421 | F34: 15000 | G34: =SUM(F34)/7.5345 -> 1990.8421 | H34: 15000 | I34: =SUM(H34)/7.5345 -> 1990.8421 | J34: 15000 | K34: =SUM(J34)/7.5345 -> 1990.8421
A35: 32234 | B35: motorni benzin i dizel gorivo | C35: 17 | D35: 40000 | E35: =SUM(D35)/7.5345 -> 5308.9123 | F35: 40000 | G35: =SUM(F35)/7.5345 -> 5308.9123 | H35: 40000 | I35: =SUM(H35)/7.5345 -> 5308.9123 | J35: 40000 | K35: =SUM(J35)/7.5345 -> 5308.9123
A36: 32239 | B36: drva za ogrijev | C36: 22 | D36: 8500 | E36: =SUM(D36)/7.5345 -> 1128.1439 | F36: 10000 | G36: =SUM(F36)/7.5345 -> 1327.2281 | H36: 10000 | I36: =SUM(H36)/7.5345 -> 1327.2281 | J36: 10000 | K36: =SUM(J36)/7.5345 -> 1327.2281
A37: 32241 | B37: materijal i djelovi za tek. I invest. održavanje građevinskih objekata | C37: 18 | D37: 5000 | E37: =SUM(D37)/7.5345 -> 663.61404 | F37: 5000 | G37: =SUM(F37)/7.5345 -> 663.61404 | H37: 5000 | I37: =SUM(H37)/7.5345 -> 663.61404 | J37: 5000 | K37: =SUM(J37)/7.5345 -> 663.61404
A38: 32242 | B38: materijal i djelovi za tek. I invest. održavanje postrojenja i opreme | C38: 19 | D38: 15000 | E38: =SUM(D38)/7.5345 -> 1990.8421 | F38: 15000 | G38: =SUM(F38)/7.5345 -> 1990.8421 | H38: 15000 | I38: =SUM(H38)/7.5345 -> 1990.8421 | J38: 15000 | K38: =SUM(J38)/7.5345 -> 1990.8421
A39: 32243 | B39: materijal i djelovi za tek. I invest. Održavanje transportnih sredstava | C39: 20 | D39: 10000 | E39: =SUM(D39)/7.5345 -> 1327.2281 | F39: 10000 | G39: =SUM(F39)/7.5345 -> 1327.2281 | H39: 10000 | I39: =SUM(H39)/7.5345 -> 1327.2281 | J39: 10000 | K39: =SUM(J39)/7.5345 -> 1327.2281
A40: 32252 | B40: auto gume | C40: 21 | D40: 3000 | E40: =SUM(D40)/7.5345 -> 398.16843 | F40: 3000 | G40: =SUM(F40)/7.5345 -> 398.16843 | H40: 3000 | I40: =SUM(H40)/7.5345 -> 398.16843 | J40: 3000 | K40: =SUM(J40)/7.5345 -> 398.16843
A41: 32311 | B41: usluge telefona i telefaksa | C41: 23 | D41: 50000 | E41: =SUM(D41)/7.5345 -> 6636.1404 | F41: 50000 | G41: =SUM(F41)/7.5345 -> 6636.1404 | H41: 50000 | I41: =SUM(H41)/7.5345 -> 6636.1404 | J41: 50000 | K41: =SUM(J41)/7.5345 -> 6636.1404
... A66: 32399 | B66: POVRAT POREZA PO GODIŠNJOJ OSNOVI | C66: 314 | D66: 255000 | E66: =SUM(D66)/7.5345 -> 33844.316 | F66: 300000 | G66: =SUM(F66)/7.5345 -> 39816.843 | H66: 320000 | I66: =SUM(H66)/7.5345 -> 42471.299 | J66: 350000 | K66: =SUM(J66)/7.5345 -> 46452.983
A67: račun | B67: Akt. A 100204 Otplata primljenih zajmova | C67: pozicija | D67: =SUM(D68:D69) -> 420000 | E67: =SUM(E68:E69) -> 55743.58 | F67: =SUM(F68:F69) -> 315000 | G67: =SUM(G68:G69) -> 41807.685 | H67: =SUM(H68:H69) -> 260000 | I67: =SUM(I68:I69) -> 34507.93 | J67: =SUM(J68:J69) -> 155000 | K67: =SUM(K68:K69) -> 20572.035
A68: 34222 | B68: kamate za zajmove | C68: 49 | D68: 20000 | E68: =SUM(D68)/7.5345 -> 2654.4562 | F68: 15000 | G68: =SUM(F68)/7.5345 -> 1990.8421 | H68: 10000 | I68: =SUM(H68)/7.5345 -> 1327.2281 | J68: 5000 | K68: =SUM(J68)/7.5345 -> 663.61404
A69: 54450 | B69: otplata glavnice kredita | C69: 52 | D69: 400000 | E69: =SUM(D69)/7.5345 -> 53089.123 | F69: 300000 | G69: =SUM(F69)/7.5345 -> 39816.843 | H69: 250000 | I69: =SUM(H69)/7.5345 -> 33180.702 | J69: 150000 | K69: =SUM(J69)/7.5345 -> 19908.421
A70: račun | B70: Akt. A 100203 Opremanje JUO | C70: pozicija | D70: =SUM(D71:D75) -> 38700 | E70: =SUM(E71:E75) -> 5136.3727 | F70: =SUM(F71:F75) -> 521000 | G70: =SUM(G71:G75) -> 69148.583 | H70: =SUM(H71:H75) -> 4200 | I70: =SUM(I71:I75) -> 557.4358 | J70: =SUM(J71:J75) -> 4200 | K70: =SUM(K71:K75) -> 557.4358
A71: 42211 | B71: računala i oprema | C71: 44 | D71: 0 | E71: =SUM(D71)/7.5345 -> 0 | F71: 10000 | G71: =SUM(F71)/7.5345 -> 1327.2281 | H71: 0 | I71: =SUM(H71)/7.5345 -> 0 | J71: 0 | K71: =SUM(J71)/7.5345 -> 0
A72: 42212 | B72: uredski namještaj | C72: 45 | D72: 500 | E72: =SUM(D72)/7.5345 -> 66.361404 | F72: 1000 | G72: =SUM(F72)/7.5345 -> 132.72281 | H72: 1000 | I72: =SUM(H72)/7.5345 -> 132.72281 | J72: 1000 | K72: =SUM(J72)/7.5345 -> 132.72281
A73: 42222 | B73: telefoni i oprema | C73: 46 | D73: 0 | E73: =SUM(D73)/7.5345 -> 0 | F73: 10000 | G73: =SUM(F73)/7.5345 -> 1327.2281 | H73: 0 | I73: =SUM(H73)/7.5345 -> 0 | J73: 0 | K73: =SUM(J73)/7.5345 -> 0
A74: 42273 | B74: komunalna oprema (traktor,ralica i priključci) | C74: 48 | D74: 3200 | E74: =SUM(D74)/7.5345 -> 424.71299 | F74: 300000 | G74: =SUM(F74)/7.5345 -> 39816.843 | H74: 3200 | I74: =SUM(H74)/7.5345 -> 424.71299 | J74: 3200 | K74: =SUM(J74)/7.5345 -> 424.71299
A75: 42621 | B75: računalni programi-digitalno uredsko poslovanja | C75: 47 | D75: 35000 | E75: =SUM(D75)/7.5345 -> 4645.2983 | F75: 200000 | G75: =SUM(F75)/7.5345 -> 26544.562 | H75: 0 | I75: =SUM(H75)/7.5345 -> 0 | J75: 0 | K75: =SUM(J75)/7.5345 -> 0
A76: Program 1003 | B76: ODRŽAVANJE KOMUNALNE INFRASTRUKTURE | C76: pozicija | D76: =SUM(D77+D81+D85+D95+D99) -> 1015000 | E76: =SUM(E77+E81+E85+E95+E99) -> 134713.65 | F76: =SUM(F77+F81+F85+F95+F99) -> 1159000 | G76: =SUM(G77+G81+G85+G95+G99) -> 153825.73 | H76: =SUM(H77+H81+H85+H95+H99) -> 1260000 | I76: =SUM(I77+I81+I85+I95+I99) -> 167230.74 | J76: =SUM(J77+J81+J85+J95+J99) -> 1256000 | K76: =SUM(K77+K81+K85+K95+K99) -> 166699.85
A77: račun | B77: Akt. A100302 Održavanje čistoće javnih površina | C77: pozicija | D77: =SUM(D78:D80) -> 106000 | E77: =SUM(E78:E80) -> 14068.618 | F77: =SUM(F78:F80) -> 260000 | G77: =SUM(G78:G80) -> 34507.93 | H77: =SUM(H78:H80) -> 260000 | I77: =SUM(I78:I80) -> 34507.93 | J77: =SUM(J78:J80) -> 260000 | K77: =SUM(K78:K80) -> 34507.93
A78: 32329 | B78: održavanje zelenila i košnja travnjaka | C78: 53 | D78: 50000 | E78: =SUM(D78)/7.5345 -> 6636.1404 | F78: 100000 | G78: =SUM(F78)/7.5345 -> 13272.281 | H78: 100000 | I78: =SUM(H78)/7.5345 -> 13272.281 | J78: 100000 | K78: =SUM(J78)/7.5345 -> 13272.281
A79: 32329 | B79: uređenje groblja i okoliša | C79: 54 | D79: 55000 | E79: =SUM(D79)/7.5345 -> 7299.7545 | F79: 150000 | G79: =SUM(F79)/7.5345 -> 19908.421 | H79: 150000 | I79: =SUM(H79)/7.5345 -> 19908.421 | J79: 150000 | K79: =SUM(J79)/7.5345 -> 19908.421
A80: 32329 | B80: uklanjanje ruševina iz domovinskog rata | C80: 55 | D80: 1000 | E80: =SUM(D80)/7.5345 -> 132.72281 | F80: 10000 | G80: =SUM(F80)/7.5345 -> 1327.2281 | H80: 10000 | I80: =SUM(H80)/7.5345 -> 1327.2281 | J80: 10000 | K80: =SUM(J80)/7.5345 -> 1327.2281
A81: račun | B81: Akt. A100303 Javna rasvjeta | C81: pozicija | D81: =SUM(D82:D84) -> 480000 | E81: =SUM(E82:E84) -> 63706.948 | F81: =SUM(F82:F84) -> 530000 | G81: =SUM(G82:G84) -> 70343.088 | H81: =SUM(H82:H84) -> 530000 | I81: =SUM(I82:I84) -> 70343.088 | J81: =SUM(J82:J84) -> 530000 | K81: =SUM(K82:K84) -> 70343.088
A82: 32231 | B82: električna energija-javna rasvjeta | C82: 56 | D82: 200000 | E82: =SUM(D82)/7.5345 -> 26544.562 | F82: 200000 | G82: =SUM(F82)/7.5345 -> 26544.562 | H82: 200000 | I82: =SUM(H82)/7.5345 -> 26544.562 | J82: 200000 | K82: =SUM(J82)/7.5345 -> 26544.562
A83: 32231 | B83: održavanje javne rasvjete-tekuće | C83: 57 | D83: 30000 | E83: =SUM(D83)/7.5345 -> 3981.6843 | F83: 30000 | G83: =SUM(F83)/7.5345 -> 3981.6843 | H83: 30000 | I83: =SUM(H83)/7.5345 -> 3981.6843 | J83: 30000 | K83: =SUM(J83)/7.5345 -> 3981.6843
A84: 45111 | B84: modernizacija javne rasvijete -zamjna svijetiljki LED svijetiljakma | C84: 259 | D84: 250000 | E84: =SUM(D84)/7.5345 -> 33180.702 | F84: 300000 | G84: =SUM(F84)/7.5345 -> 39816.843 | H84: 300000 | I84: =SUM(H84)/7.5345 -> 39816.843 | J84: 300000 | K84: =SUM(J84)/7.5345 -> 39816.843
A85: račun | B85: Akt. A100304 Održavanje komunalne infrastrukture i objekata | C85: pozicija | D85: =SUM(D86:D94) -> 306000 | E85: =SUM(E86:E94) -> 40613.179 | F85: =SUM(F86:F94) -> 241000 | G85: =SUM(G86:G94) -> 31986.197 | H85: =SUM(H86:H94) -> 270000 | I85: =SUM(I86:I94) -> 35835.158 | J85: =SUM(J86:J94) -> 266000 | K85: =SUM(K86:K94) -> 35304.267
A86: 32229 | B86: materijal za održavanje nerzvrstanih cesta sa prijevozom | C86: 60 | D86: 50000 | E86: =SUM(D86)/7.5345 -> 6636.1404 | F86: 50000 | G86: =SUM(F86)/7.5345 -> 6636.1404 | H86: 50000 | I86: =SUM(H86)/7.5345 -> 6636.1404 | J86: 50000 | K86: =SUM(J86)/7.5345 -> 6636.1404
A87: 32329 | B87: izgradja cijevnih prokopa, kopanje cestovnih jaraka | C87: 58 | D87: 20000 | E87: =SUM(D87)/7.5345 -> 2654.4562 | F87: 50000 | G87: =SUM(F87)/7.5345 -> 6636.1404 | H87: 50000 | I87: =SUM(H87)/7.5345 -> 6636.1404 | J87: 20000 | K87: =SUM(J87)/7.5345 -> 2654.4562
A88: 32329 | B88: čišćenje slivnika i oborinskih kanala | C88: 59 | D88: 15000 | E88: =SUM(D88)/7.5345 -> 1990.8421 | F88: 15000 | G88: =SUM(F88)/7.5345 -> 1990.8421 | H88: 15000 | I88: =SUM(H88)/7.5345 -> 1990.8421 | J88: 15000 | K88: =SUM(J88)/7.5345 -> 1990.8421
A89: 32329 | B89: prijevoz materijala za održavanje nerazvrstanih cesta | C89: 61 | D89: 0 | E89: =SUM(D89)/7.5345 -> 0 | F89: 0 | G89: =SUM(F89)/7.5345 -> 0 | H89: 0 | I89: =SUM(H89)/7.5345 -> 0 | J89: 0 | K89: =SUM(J89)/7.5345 -> 0
A90: 32329 | B90: razgrtanje i kopanje kanala | C90: 165 | D90: 50000 | E90: =SUM(D90)/7.5345 -> 6636.1404 | F90: 30000 | G90: =SUM(F90)/7.5345 -> 3981.6843 | H90: 30000 | I90: =SUM(H90)/7.5345 -> 3981.6843 | J90: 50000 | K90: =SUM(J90)/7.5345 -> 6636.1404
A91: 32349 | B91: zimska služba | C91: 62 | D91: 100000 | E91: =SUM(D91)/7.5345 -> 13272.281 | F91: 70000 | G91: =SUM(F91)/7.5345 -> 9290.5966 | H91: 70000 | I91: =SUM(H91)/7.5345 -> 9290.5966 | J91: 100000 | K91: =SUM(J91)/7.5345 -> 13272.281
A92: 32349 | B92: sanacija divljih odlagališta | C92: 64 | D92: 1000 | E92: =SUM(D92)/7.5345 -> 132.72281 | F92: 5000 | G92: =SUM(F92)/7.5345 -> 663.61404 | H92: 5000 | I92: =SUM(H92)/7.5345 -> 663.61404 | J92: 1000 | K92: =SUM(J92)/7.5345 -> 132.72281
A93: 32375 | B93: geodetsko katastarske usluge | C93: 63 | D93: 20000 | E93: =SUM(D93)/7.5345 -> 2654.4562 | F93: 20000 | G93: =SUM(F93)/7.5345 -> 2654.4562 | H93: 20000 | I93: =SUM(H93)/7.5345 -> 2654.4562 | J93: 20000 | K93: =SUM(J93)/7.5345 -> 2654.4562
A94: 323993 | B94: IZRADA REGISTRA GROBLJA | C94: 282 | D94: 50000 | E94: =SUM(D94)/7.5345 -> 6636.1404 | F94: 1000 | G94: =SUM(F94)/7.5345 -> 132.72281 | H94: 30000 | I94: =SUM(H94)/7.5345 -> 3981.6843 | J94: 10000 | K94: =SUM(J94)/7.5345 -> 1327.2281
A95: račun | B95: Akt. A100305 Deratizacija i dezinsekcija | C95: pozicija | D95: =SUM(D96:D98) -> 50000 | E95: =SUM(E96:E98) -> 6636.1404 | F95: =SUM(F96:F98) -> 55000 | G95: =SUM(G96:G98) -> 7299.7545 | H95: =SUM(H96:H98) -> 55000 | I95: =SUM(I96:I98) -> 7299.7545 | J95: =SUM(J96:J98) -> 55000 | K95: =SUM(K96:K98) -> 7299.7545
A96: 32343 | B96: deratizacija i dezinsekcija | C96: 65 | D96: 20000 | E96: =SUM(D96)/7.5345 -> 2654.4562 | F96: 25000 | G96: =SUM(F96)/7.5345 -> 3318.0702 | H96: 25000 | I96: =SUM(H96)/7.5345 -> 3318.0702 | J96: 25000 | K96: =SUM(J96)/7.5345 -> 3318.0702
A97: 32343 | B97: neškodljivo uklanjanje lešina | C97: 66 | D97: 25000 | E97: =SUM(D97)/7.5345 -> 3318.0702 | F97: 25000 | G97: =SUM(F97)/7.5345 -> 3318.0702 | H97: 25000 | I97: =SUM(H97)/7.5345 -> 3318.0702 | J97: 25000 | K97: =SUM(J97)/7.5345 -> 3318.0702
A98: 32360 | B98: usluge za javno zdravstvo | C98: 67 | D98: 5000 | E98: =SUM(D98)/7.5345 -> 663.61404 | F98: 5000 | G98: =SUM(F98)/7.5345 -> 663.61404 | H98: 5000 | I98: =SUM(H98)/7.5345 -> 663.61404 | J98: 5000 | K98: =SUM(J98)/7.5345 -> 663.61404
A99: račun | B99: Akt. A100307 Javni radovi | C99: pozicija | D99: =SUM(D100:D105) -> 73000 | E99: =SUM(E100:E105) -> 9688.765 | F99: =SUM(F100:F105) -> 73000 | G99: =SUM(G100:G105) -> 9688.765 | H99: =SUM(H100:H105) -> 145000 | I99: =SUM(I100:I105) -> 19244.807 | J99: =SUM(J100:J105) -> 145000 | K99: =SUM(K100:K105) -> 19244.807
A100: 31111 | B100: stručno osposobljavanje doprinosi MIO | C100: 68 | D100: 0 | E100: =SUM(D100)/7.5345 -> 0 | F100: 0 | G100: =SUM(F100)/7.5345 -> 0 | H100: 0 | I100: =SUM(H100)/7.5345 -> 0 | J100: 0 | K100: =SUM(J100)/7.5345 -> 0
A101: 31111 | B101: javni radovi plaće | C101: 171 | D101: 60000 | E101: =SUM(D101)/7.5345 -> 7963.3685 | F101: 60000 | G101: =SUM(F101)/7.5345 -> 7963.3685 | H101: 120000 | I101: =SUM(H101)/7.5345 -> 15926.737 | J101: 120000 | K101: =SUM(J101)/7.5345 -> 15926.737
A102: 31321 | B102: doprinosi OZO i ONR stručno osposobljavanje | C102: 69 | D102: 0 | E102: =SUM(D102)/7.5345 -> 0 | F102: 0 | G102: =SUM(F102)/7.5345 -> 0 | H102: 0 | I102: =SUM(H102)/7.5345 -> 0 | J102: 0 | K102: =SUM(J102)/7.5345 -> 0
A103: 31322 | B103: doprinosi OZO i ONR javni radovi | C103: 151 | D103: 10000 | E103: =SUM(D103)/7.5345 -> 1327.2281 | F103: 10000 | G103: =SUM(F103)/7.5345 -> 1327.2281 | H103: 20000 | I103: =SUM(H103)/7.5345 -> 2654.4562 | J103: 20000 | K103: =SUM(J103)/7.5345 -> 2654.4562
A104: 31332 | B104: doprinosi za nezaposlenost 1,7% | C104: 152 | D104: 0 | E104: =SUM(D104)/7.5345 -> 0 | F104: 0 | G104: =SUM(F104)/7.5345 -> 0 | H104: 0 | I104: =SUM(H104)/7.5345 -> 0 | J104: 0 | K104: =SUM(J104)/7.5345 -> 0
A105: 32121 | B105: troškovi putovaja javni radovai | C105: 274 | D105: 3000 | E105: =SUM(D105)/7.5345 -> 398.16843 | F105: 3000 | G105: =SUM(F105)/7.5345 -> 398.16843 | H105: 5000 | I105: =SUM(H105)/7.5345 -> 663.61404 | J105: 5000 | K105: =SUM(J105)/7.5345 -> 663.61404
A106: Program 1004 | B106: IZGRADNJA OBJEKATA | C106: pozicija | D106: =SUM(D107+D125+D134+D145+D154+D157+D159+D161+D163+D165) -> 2350000 | E106: =SUM(E107+E125+E134+E145+E154+E157+E159+E161+E163+E165) -> 311898.6 | F106: =SUM(F107+F125+F134+F145+F154+F157+F159+F161+F163+F165) -> 4900000 | G106: =SUM(G107+G125+G134+G145+G154+G157+G159+G161+G163+G165) -> 650341.76 | H106: =SUM(H107+H125+H134+H145+H154+H157+H159+H161+H163+H165) -> 9005000 | I106: =SUM(I107+I125+I134+I145+I154+I157+I159+I161+I163+I165) -> 1195168.9 | J106: =SUM(J107+J125+J134+J145+J154+J157+J159+J161+J163+J165) -> 8955000 | K106: =SUM(K107+K125+K134+K145+K154+K157+K159+K161+K163+K165) -> 1188532.7
A107: račun | B107: Akt. K100402 Projektna dokumentacija | C107: pozicija | D107: =SUM(D108:D124) -> 50000 | E107: =SUM(E108:E124) -> 6636.1404 | F107: =SUM(F108:F124) -> 150000 | G107: =SUM(G108:G124) -> 19908.421 | H107: =SUM(H108:H124) -> 100000 | I107: =SUM(I108:I124) -> 13272.281 | J107: =SUM(J108:J124) -> 100000 | K107: =SUM(K108:K124) -> 13272.281
A108: 42641 | B108: projektna dokumentacija za izgradnju asfalno sportsko igralište u Malim Bastajima | C108: 318 | D108: 50000 | E108: =SUM(D108)/7.5345 -> 6636.1404 | F108: 5000 | G108: =SUM(F108)/7.5345 -> 663.61404 | H108: 50000 | I108: =SUM(H108)/7.5345 -> 6636.1404 | J108: 50000 | K108: =SUM(J108)/7.5345 -> 6636.1404
A109: 42641 | B109: Projektna dokumantacija za rekonstrukciju Hrvatskog doma u Đulovcu | C109: 319 | D109: 0 | E109: =SUM(D109)/7.5345 -> 0 | F109: 5000 | G109: =SUM(F109)/7.5345 -> 663.61404 | H109: 0 | I109: =SUM(H109)/7.5345 -> 0 | J109: 0 | K109: =SUM(J109)/7.5345 -> 0
A110: 42641 | B110: Projektna dokumentacija za izgradnju SRC Đulovac (glavni, izvedbeni projekt sa troškovnikom) | C110: 203 | D110: 0 | E110: =SUM(D110)/7.5345 -> 0 | F110: 0 | G110: =SUM(F110)/7.5345 -> 0 | H110: 0 | I110: =SUM(H110)/7.5345 -> 0 | J110: 0 | K110: =SUM(J110)/7.5345 -> 0
A111: 42641 | B111: ostala projektna dokumentacija | C111: 206 | D111: 0 | E111: =SUM(D111)/7.5345 -> 0 | F111: 50000 | G111: =SUM(F111)/7.5345 -> 6636.1404 | H111: 0 | I111: =SUM(H111)/7.5345 -> 0 | J111: 0 | K111: =SUM(J111)/7.5345 -> 0
A112: 42641 | B112: Projektna dokumantacija za rekonstrukciju pješačke staze u Đuilovcu L=0,6 km | C112: 283 | D112: 0 | E112: =SUM(D112)/7.5345 -> 0 | F112: 50000 | G112: =SUM(F112)/7.5345 -> 6636.1404 | H112: 50000 | I112: =SUM(H112)/7.5345 -> 6636.1404 | J112: 50000 | K112: =SUM(J112)/7.5345 -> 6636.1404
B113: Projektna dokumantacija za rekonstrukciju pješačke staze u Velikim Batajima L=3 km | E113: =SUM(D113)/7.5345 -> 0
B114: Projektna dokumantacija za rekonstrukciju pješačke staze u Batinjanima L=6 km | E114: =SUM(D114)/7.5345 -> 0
B115: Projektna dokumantacija za rekonstrukciju pješačke staze u Krivaji L=2,5 km | E115: =SUM(D115)/7.5345 -> 0
A116: 42641 | B116: Projektna dokumantacija za rekonstrukciju LC u Batinjani prem lovačkom domu, Vujkovićev sokak, Vukovje prema Švabu, prema groblju u Donjoj Vrijeski | C116: 320 | D116: 0 | E116: =SUM(D116)/7.5345 -> 0 | F116: 20000 | G116: =SUM(F116)/7.5345 -> 2654.4562 | H116: 0 | I116: =SUM(H116)/7.5345 -> 0 | J116: 0 | K116: =SUM(J116)/7.5345 -> 0
A117: 42641 | B117: Projektna dokumantacija za uređenje centra Đulovca | C117: 285 | D117: 0 | E117: =SUM(D117)/7.5345 -> 0 | F117: 0 | G117: =SUM(F117)/7.5345 -> 0 | H117: 0 | I117: =SUM(H117)/7.5345 -> 0 | J117: 0 | K117: =SUM(J117)/7.5345 -> 0
A118: 42641 | B118: Projektna dokumantacija za rekonstrukciju i priključenje vodovoda Krivaja na vodovodnu mrežu Đulovac L=1,5 km | C118: 286 | D118: 0 | E118: =SUM(D118)/7.5345 -> 0 | F118: 10000 | G118: =SUM(F118)/7.5345 -> 1327.2281 | H118: 0 | I118: =SUM(H118)/7.5345 -> 0 | J118: 0 | K118: =SUM(J118)/7.5345 -> 0
B119: Projektna dokumantacija Vodovod u Velikim Bastajima, L≈1,5 km (samo troškovnik i tenderska dokumentacija temeljem postojećeg glavnog projekta) | E119: =SUM(D119)/7.5345 -> 0
B120: Projektna dokumantacija Vodovod Veliki Bastaji – Veliki Miletinac, L≈6,0 km (samo troškovnik i tenderska dokumentacija temeljem postojećeg glavnog projekta) | E120: =SUM(D120)/7.5345 -> 0
B121: Projektna dokumantacija za izgradnju vodovoda Đulovac-Gornje Cjepidlake L= 2 km | E121: =SUM(D121)/7.5345 -> 0
A122: 42641 | B122: Projektna dokumantacija za izgradnju kanalizacijske mraže Đulovac i okolica L= 17 km | C122: 287 | D122: 0 | E122: =SUM(D122)/7.5345 -> 0 | F122: 10000 | G122: =SUM(F122)/7.5345 -> 1327.2281 | H122: 0 | I122: =SUM(H122)/7.5345 -> 0 | J122: 0 | K122: =SUM(J122)/7.5345 -> 0
A123: 42641 | B123: Projektna dokumantacija za izgradnju kanalizacijske mraže u Velikim Bastajima L= 5 km | E123: =SUM(D123)/7.5345 -> 0
A124: 42641 | B124: Projektna dokumantacija za izgradnju kanalizacijske mreže u Malim Bastajima L= 2 km | E124: =SUM(D124)/7.5345 -> 0
A125: račun | B125: Akt. K100403 Kapitalne donacije mjesnoj samoupravi | C125: pozicija | D125: =SUM(D126:D133) -> 635000 | E125: =SUM(E126:E133) -> 84278.983 | F125: =SUM(F126:F133) -> 700000 | G125: =SUM(G126:G133) -> 92905.966 | H125: =SUM(H126:H133) -> 30000 | I125: =SUM(I126:I133) -> 3981.6843 | J125: =SUM(J126:J133) -> 30000 | K125: =SUM(K126:K133) -> 3981.6843
...

Sheet proračun 2023. prihodi 
C2: NACRT PRIJEDLOGA PRORAČUNA OPĆINE ĐULOVAC ZA 2023. GODINU SA PROJEKCIJAMA 2024. I 2025. GODINE
A3: OPĆI DIO- PRIHODI
A4: Racun/ | B4: poz | C4: Opis | D4: PRORAČUN 2022. REBALANS | E4: PRORAČUN 2022. REBALANS EUR | F4: PRORAČUN 2023. | G4: PRORAČUN 2023.EUR | H4: PROJEKCIJE 2024 | I4: PROJEKCIJE 2024 EUR | J4: PROJEKCIJE 2025 | K4: PROJEKCIJE 2025 EUR
A5: 6 | C5: Prihodi poslovanja | D5: =SUM(D6+D18+D39+D60) -> 10277000 | E5: =SUM(E6+E18+E39+E60) -> 1363992.3 | F5: =SUM(F6+F18+F39+F60) -> 15285450 | G5: =SUM(G6+G18+G39+G60) -> 2028727.9 | H5: =SUM(H6+H18+H39+H60) -> 15907950 | I5: =SUM(I6+I18+I39+I60) -> 2111347.8 | J5: =SUM(J6+J18+J39+J60) -> 15778950 | K5: =SUM(K6+K18+K39+K60) -> 2094226.6
A6: 61 | C6: Prihodi od poreza | D6: =SUM(D7+D11+D15) -> 6474000 | E6: =SUM(E7+E11+E15) -> 859247.46 | F6: =SUM(F7+F11+F15) -> 7174000 | G6: =SUM(G7+G11+G15) -> 952153.43 | H6: =SUM(H7+H11+H15) -> 7174000 | I6: =SUM(I7+I11+I15) -> 952153.43 | J6: =SUM(J7+J11+J15) -> 7174000 | K6: =SUM(K7+K11+K15) -> 952153.43
A7: 611 | C7: Porez i prirez na dohodak | D7: =SUM(D8) -> 6300000 | E7: =SUM(E8) -> 836153.69 | F7: =SUM(F8) -> 7000000 | G7: =SUM(G8) -> 929059.66 | H7: =SUM(H8) -> 7000000 | I7: =SUM(I8) -> 929059.66 | J7: =SUM(J8) -> 7000000 | K7: =SUM(K8) -> 929059.66
A8: 6111 | C8: Porez i prirez na dohodak od nesamostalnog rada | D8: =SUM(D9+D10) -> 6300000 | E8: =SUM(E9+E10) -> 836153.69 | F8: =SUM(F9+F10) -> 7000000 | G8: =SUM(G9+G10) -> 929059.66 | H8: =SUM(H9+H10) -> 7000000 | I8: =SUM(I9+I10) -> 929059.66 | J8: =SUM(J9+J10) -> 7000000 | K8: =SUM(K9+K10) -> 929059.66
A9: 61111 | B9: -54 | C9: FISKALNO IZRAVNANJE | D9: 5500000 | E9: =SUM(D9/7.5345) -> 729975.45 | F9: 6000000 | G9: =SUM(F9/7.5345) -> 796336.85 | H9: 6000000 | I9: =SUM(H9/7.5345) -> 796336.85 | J9: 6000000 | K9: =SUM(J9/7.5345) -> 796336.85
A10: 61111 | B10: -1 | C10: Porez i prirez na dohodak od nesamostalnog rada i drugih samostalnih | D10: 800000 | E10: =SUM(D10/7.5345) -> 106178.25 | F10: 1000000 | G10: =SUM(F10/7.5345) -> 132722.81 | H10: 1000000 | I10: =SUM(H10/7.5345) -> 132722.81 | J10: 1000000 | K10: =SUM(J10/7.5345) -> 132722.81
A11: 613 | C11: Porezi na imovinu | D11: =SUM(D12) -> 164000 | E11: =SUM(E12) -> 21766.541 | F11: =SUM(F12) -> 164000 | G11: =SUM(G12) -> 21766.541 | H11: =SUM(H12) -> 164000 | I11: =SUM(I12) -> 21766.541 | J11: =SUM(J12) -> 164000 | K11: =SUM(K12) -> 21766.541
A12: 6131 | C12: Stalni porezi na nepokretnu imovinu | D12: =SUM(D13:D14) -> 164000 | E12: =SUM(E13:E14) -> 21766.541 | F12: =SUM(F13:F14) -> 164000 | G12: =SUM(G13:G14) -> 21766.541 | H12: =SUM(H13:H14) -> 164000 | I12: =SUM(I13:I14) -> 21766.541 | J12: =SUM(J13:J14) -> 164000 | K12: =SUM(K13:K14) -> 21766.541
A13: 61314 | B13: -2 | C13: Porez na kuce za odmor | D13: 4000 | E13: =SUM(D13/7.5345) -> 530.89123 | F13: 4000 | G13: =SUM(F13/7.5345) -> 530.89123 | H13: 4000 | I13: =SUM(H13/7.5345) -> 530.89123 | J13: 4000 | K13: =SUM(J13/7.5345) -> 530.89123
A14: 61319 | B14: -31 | C14: Ostali stalni porezi na nepokretnu imovinu | D14: 160000 | E14: =SUM(D14/7.5345) -> 21235.649 | F14: 160000 | G14: =SUM(F14/7.5345) -> 21235.649 | H14: 160000 | I14: =SUM(H14/7.5345) -> 21235.649 | J14: 160000 | K14: =SUM(J14/7.5345) -> 21235.649
A15: 614 | C15: Porezi na robu i usluge | D15: =SUM(D16) -> 10000 | E15: =SUM(E16) -> 1327.2281 | F15: =SUM(F16) -> 10000 | G15: =SUM(G16) -> 1327.2281 | H15: =SUM(H16) -> 10000 | I15: =SUM(I16) -> 1327.2281 | J15: =SUM(J16) -> 10000 | K15: =SUM(K16) -> 1327.2281
A16: 6142 | C16: Porez na promet | D16: =SUM(D17) -> 10000 | E16: =SUM(E17) -> 1327.2281 | F16: =SUM(F17) -> 10000 | G16: =SUM(G17) -> 1327.2281 | H16: =SUM(H17) -> 10000 | I16: =SUM(I17) -> 1327.2281 | J16: =SUM(J17) -> 10000 | K16: =SUM(K17) -> 1327.2281
A17: 61424 | B17: -3 | C17: Porez na potrošnju alkoholnih i bezalkoholnih pića | D17: 10000 | E17: =SUM(D17/7.5345) -> 1327.2281 | F17: 10000 | G17: =SUM(F17/7.5345) -> 1327.2281 | H17: 10000 | I17: =SUM(H17/7.5345) -> 1327.2281 | J17: 10000 | K17: =SUM(J17/7.5345) -> 1327.2281
A18: 63 | C18: Pomoci iz inozemstva (darovnice) i od subjekata unutar opce države | D18: =SUM(D19+D22+D28+D32) -> 1509900 | E18: =SUM(E19+E22+E28+E32) -> 200398.17 | F18: =SUM(F19+F22+F28+F32) -> 5818350 | G18: =SUM(G19+G22+G28+G32) -> 772227.75 | H18: =SUM(H19+H22+H28+H32) -> 6310850 | I18: =SUM(I19+I22+I28+I32) -> 837593.74 | J18: =SUM(J19+J22+J28+J32) -> 6181850 | K18: =SUM(K19+K22+K28+K32) -> 820472.49
A19: 632 | C19: Pomoci od medunarodnih organizacija | D19: =SUM(D20+D21) -> 194900 | E19: =SUM(E20+E21) -> 25867.675 | F19: =SUM(F20+F21) -> 2025650 | G19: =SUM(G20+G21) -> 268849.96 | H19: =SUM(H20+H21) -> 5515850 | I19: =SUM(I20+I21) -> 732079.1 | J19: =SUM(J20+J21) -> 5386850 | K19: =SUM(K20+K21) -> 714957.86
A20: 63241 | B20: -39 | C20: Kapitalne pomoci od institucija i tijela EU-FONDOVI | D20: 144900 | E20: =SUM(D20/7.5345) -> 19231.535 | F20: 1975650 | G20: =SUM(F20/7.5345) -> 262213.82 | H20: 5465850 | I20: =SUM(H20/7.5345) -> 725442.96 | J20: 5336850 | K20: =SUM(J20/7.5345) -> 708321.72
B21: -43 | C21: prihodi LAG | D21: 50000 | E21: =SUM(D21/7.5345) -> 6636.1404 | F21: 50000 | G21: =SUM(F21/7.5345) -> 6636.1404 | H21: 50000 | I21: =SUM(H21/7.5345) -> 6636.1404 | J21: 50000 | K21: =SUM(J21/7.5345) -> 6636.1404
A22: 6331 | C22: Tekuce pomoci iz proracuna | D22: =SUM(D23)+D25 -> 110000 | E22: =SUM(E23)+E25 -> 14599.509 | F22: =SUM(F23)+F25 -> 190000 | G22: =SUM(G23)+G25 -> 25217.334 | H22: =SUM(H23)+H25 -> 90000 | I22: =SUM(I23)+I25 -> 11945.053 | J22: =SUM(J23)+J25 -> 90000 | K22: =SUM(K23)+K25 -> 11945.053
A23: 63311 | C23: Tekuce pomoci iz državnog proracuna | D23: =SUM(D24) -> 0 | E23: =SUM(D23/7.5345) -> 0 | F23: =SUM(F24) -> 0 | G23: =SUM(F23/7.5345) -> 0 | H23: =SUM(H24) -> 0 | I23: =SUM(H23/7.5345) -> 0 | J23: =SUM(J24) -> 0 | K23: =SUM(J23/7.5345) -> 0
B24: -56 | C24: KOMPENZACIJSKA MJERA | D24: 0 | E24: =SUM(D24/7.5345) -> 0 | F24: 0 | G24: =SUM(F24/7.5345) -> 0 | H24: 0 | I24: =SUM(H24/7.5345) -> 0 | J24: 0 | K24: =SUM(J24/7.5345) -> 0
A25: 63312 | C25: Tekuce pomoci iz županijskog proracuna | D25: =SUM(D26:D27) -> 110000 | E25: =SUM(D25/7.5345) -> 14599.509 | F25: =SUM(F26:F27) -> 190000 | G25: =SUM(F25/7.5345) -> 25217.334 | H25: =SUM(H26:H27) -> 90000 | I25: =SUM(H25/7.5345) -> 11945.053 | J25: =SUM(J26:J27) -> 90000 | K25: =SUM(J25/7.5345) -> 11945.053
B26: -61 | C26: ELEMENTARNA NEPOGODA | D26: 20000 | E26: =SUM(D26/7.5345) -> 2654.4562 | F26: 100000 | G26: =SUM(F26/7.5345) -> 13272.281 | H26: 0 | I26: =SUM(H26/7.5345) -> 0 | J26: 0 | K26: =SUM(J26/7.5345) -> 0
B27: -29 | C27: DRVA BBŽ | D27: 90000 | E27: =SUM(D27/7.5345) -> 11945.053 | F27: 90000 | G27: =SUM(F27/7.5345) -> 11945.053 | H27: 90000 | I27: =SUM(H27/7.5345) -> 11945.053 | J27: 90000 | K27: =SUM(J27/7.5345) -> 11945.053
A28: 6332 | C28: Kapitalne pomoci iz državnog proracuna | D28: =SUM(D29) -> 1000000 | E28: =SUM(E29) -> 132722.81 | F28: =SUM(F29) -> 2300000 | G28: =SUM(G29) -> 305262.46 | H28: =SUM(H29) -> 500000 | I28: =SUM(I29) -> 66361.404 | J28: =SUM(J29) -> 500000 | K28: =SUM(K29) -> 66361.404
A29: 63321 | C29: Kapitalne pomoci iz državnog proracuna-sufinanciranje projekata | D29: =SUM(D30:D31) -> 1000000 | E29: =SUM(D29/7.5345) -> 132722.81 | F29: =SUM(F30:F31) -> 2300000 | G29: =SUM(F29/7.5345) -> 305262.46 | H29: =SUM(H30:H31) -> 500000 | I29: =SUM(H29/7.5345) -> 66361.404 | J29: =SUM(J30:J31) -> 500000 | K29: =SUM(J29/7.5345) -> 66361.404
B30: -63 | C30: ZA IZGRADNJU DV SUNCE -udio drž. Proračuna | D30: 0 | E30: =SUM(D30/7.5345) -> 0 | F30: 1800000 | G30: =SUM(F30/7.5345) -> 238901.06 | H30: 0 | I30: =SUM(H30/7.5345) -> 0 | J30: 0 | K30: =SUM(J30/7.5345) -> 0
B31: -38 | C31: SUFINANCIRANJE PROJEKATA | D31: 1000000 | E31: =SUM(D31/7.5345) -> 132722.81 | F31: 500000 | G31: =SUM(F31/7.5345) -> 66361.404 | H31: 500000 | I31: =SUM(H31/7.5345) -> 66361.404 | J31: 500000 | K31: =SUM(J31/7.5345) -> 66361.404
A32: 634 | C32: Pomoci od izvanproračunskih korisnika | D32: =SUM(D33) -> 205000 | E32: =SUM(E33) -> 27208.176 | F32: =SUM(F33) -> 1302700 | G32: =SUM(G33) -> 172898 | H32: =SUM(H33) -> 205000 | I32: =SUM(I33) -> 27208.176 | J32: =SUM(J33) -> 205000 | K32: =SUM(K33) -> 27208.176
A33: 6341 | C33: Tekuce pomoci od izvanproračunskih korisnika | D33: =SUM(D34) -> 205000 | E33: =SUM(E34) -> 27208.176 | F33: =SUM(F34) -> 1302700 | G33: =SUM(G34) -> 172898 | H33: =SUM(H34) -> 205000 | I33: =SUM(I34) -> 27208.176 | J33: =SUM(J34) -> 205000 | K33: =SUM(K34) -> 27208.176
A34: 63414 | C34: Tekuce pomoci od HZMO-a, HZZ-a i HZZO-a | D34: =SUM(D35:D36) -> 205000 | E34: =SUM(D34/7.5345) -> 27208.176 | F34: =SUM(F35:F36) -> 1302700 | G34: =SUM(F34/7.5345) -> 172898 | H34: =SUM(H35:H36) -> 205000 | I34: =SUM(H34/7.5345) -> 27208.176 | J34: =SUM(J35:J36) -> 205000 | K34: =SUM(J34/7.5345) -> 27208.176
B35: 3200 | C35: PROGRAM ZAŽELI | D35: 135000 | E35: =SUM(D35/7.5345) -> 17917.579 | F35: 1232700 | G35: =SUM(F35/7.5345) -> 163607.41 | H35: 135000 | I35: =SUM(H35/7.5345) -> 17917.579 | J35: 135000 | K35: =SUM(J35/7.5345) -> 17917.579
B36: -6 | C36: JAVNI RADOVI | D36: 70000 | E36: =SUM(D36/7.5345) -> 9290.5966 | F36: 70000 | G36: =SUM(F36/7.5345) -> 9290.5966 | H36: 70000 | I36: =SUM(H36/7.5345) -> 9290.5966 | J36: 70000 | K36: =SUM(J36/7.5345) -> 9290.5966
A37: 6382 | C37: Kapitalne pomoci od izvanproračunskih korisnika | D37: =SUM(D38) -> 0 | E37: =SUM(E38) -> 0 | F37: =SUM(F38) -> 0 | G37: =SUM(G38) -> 0 | H37: =SUM(H38) -> 0 | I37: =SUM(I38) -> 0 | J37: =SUM(J38) -> 0 | K37: =SUM(K38) -> 0
A38: 63821 | B38: -62 | C38: Kapitalne pomoći iz državnog proračuna temeljem prijenosa EU sredstava | D38: 0 | E38: =SUM(D38/7.5345) -> 0 | F38: 0 | G38: =SUM(F38/7.5345) -> 0 | H38: 0 | I38: =SUM(H38/7.5345) -> 0 | J38: 0 | K38: =SUM(J38/7.5345) -> 0
A39: 64 | C39: Prihodi od imovine | D39: =SUM(D40+D46) -> 676100 | E39: =SUM(E40+E46) -> 89733.891 | F39: =SUM(F40+F46) -> 676100 | G39: =SUM(G40+G46) -> 89733.891 | H39: =SUM(H40+H46) -> 676100 | I39: =SUM(I40+I46) -> 89733.891 | J39: =SUM(J40+J46) -> 676100 | K39: =SUM(K40+K46) -> 89733.891
A40: 641 | C40: Prihodi od financijske imovine | D40: =SUM(D41)+D43 -> 1100 | E40: =SUM(E41)+E43 -> 145.99509 | F40: =SUM(F41)+F43 -> 1100 | G40: =SUM(G41)+G43 -> 145.99509 | H40: =SUM(H41)+H43 -> 1100 | I40: =SUM(I41)+I43 -> 145.99509 | J40: =SUM(J41)+J43 -> 1100 | K40: =SUM(K41)+K43 -> 145.99509
A41: 6413 | C41: Kamate na orocena sredstva i depozite po | D41: =SUM(D42) -> 0 | E41: =SUM(E42) -> 0 | F41: =SUM(F42) -> 0 | G41: =SUM(G42) -> 0 | H41: =SUM(H42) -> 0 | I41: =SUM(I42) -> 0 | J41: =SUM(J42) -> 0 | K41: =SUM(K42) -> 0
A42: 64131 | B42: -34 | C42: Kamate na orocena sredstva | D42: 0 | E42: =SUM(D42/7.5345) -> 0 | F42: 0 | G42: =SUM(F42/7.5345) -> 0 | H42: 0 | I42: =SUM(H42/7.5345) -> 0 | J42: 0 | K42: =SUM(J42/7.5345) -> 0
A43: 64132 | C43: Kamate na depozite po viđenju | D43: =SUM(D44:D45) -> 1100 | E43: =SUM(D43/7.5345) -> 145.99509 | F43: =SUM(F44:F45) -> 1100 | G43: =SUM(F43/7.5345) -> 145.99509 | H43: =SUM(H44:H45) -> 1100 | I43: =SUM(H43/7.5345) -> 145.99509 | J43: =SUM(J44:J45) -> 1100 | K43: =SUM(J43/7.5345) -> 145.99509
B44: -57 | C44: Kamate | D44: 1000 | E44: =SUM(D44/7.5345) -> 132.72281 | F44: 1000 | G44: =SUM(F44/7.5345) -> 132.72281 | H44: 1000 | I44: =SUM(H44/7.5345) -> 132.72281 | J44: 1000 | K44: =SUM(J44/7.5345) -> 132.72281
B45: -55 | C45: kamate DV Sunce | D45: 100 | E45: =SUM(D45/7.5345) -> 13.272281 | F45: 100 | G45: =SUM(F45/7.5345) -> 13.272281 | H45: 100 | I45: =SUM(H45/7.5345) -> 13.272281 | J45: 100 | K45: =SUM(J45/7.5345) -> 13.272281
A46: 642 | C46: Prihodi od nefinancijske imovine | D46: =SUM(D47+D51+D54+D56) -> 675000 | E46: =SUM(E47+E51+E54+E56) -> 89587.896 | F46: =SUM(F47+F51+F54+F56) -> 675000 | G46: =SUM(G47+G51+G54+G56) -> 89587.896 | H46: =SUM(H47+H51+H54+H56) -> 675000 | I46: =SUM(I47+I51+I54+I56) -> 89587.896 | J46: =SUM(J47+J51+J54+J56) -> 675000 | K46: =SUM(K47+K51+K54+K56) -> 89587.896
A47: 6421 | C47: Naknade za koncesije | D47: =SUM(D48+D49+D50) -> 0 | E47: =SUM(E48+E49+E50) -> 0 | F47: =SUM(F48+F49+F50) -> 0 | G47: =SUM(G48+G49+G50) -> 0 | H47: =SUM(H48+H49+H50) -> 0 | I47: =SUM(I48+I49+I50) -> 0 | J47: =SUM(J48+J49+J50) -> 0 | K47: =SUM(K48+K49+K50) -> 0
A48: 64213 | C48: Naknada za koncesije na vodama i javnom vodnom dobru | D48: =SUM(D49:D50) -> 0 | E48: =SUM(D48/7.5345) -> 0 | F48: =SUM(F49:F50) -> 0 | G48: =SUM(F48/7.5345) -> 0 | H48: =SUM(H49:H50) -> 0 | I48: =SUM(H48/7.5345) -> 0 | J48: =SUM(J49:J50) -> 0 | K48: =SUM(J48/7.5345) -> 0
A49: 64218 | B49: -35 | C49: Naknade za koncesije za carinske zone-Koncesija za pogrebne usluge | D49: 0 | E49: =SUM(D49/7.5345) -> 0 | F49: 0 | G49: =SUM(F49/7.5345) -> 0 | H49: 0 | I49: =SUM(H49/7.5345) -> 0 | J49: 0 | K49: =SUM(J49/7.5345) -> 0
A50: 64219 | C50: Naknade za ostale koncesije-Koncesija državna zemljišta | D50: 0 | E50: =SUM(D50/7.5345) -> 0 | F50: 0 | G50: =SUM(F50/7.5345) -> 0 | H50: 0 | I50: =SUM(H50/7.5345) -> 0 | J50: 0 | K50: =SUM(J50/7.5345) -> 0
A51: 6422 | C51: Prihodi od zakupa i iznajmljivanja imovine | D51: =SUM(D52:D53) -> 370000 | E51: =SUM(E52:E53) -> 49107.439 | F51: =SUM(F52:F53) -> 370000 | G51: =SUM(G52:G53) -> 49107.439 | H51: =SUM(H52:H53) -> 370000 | I51: =SUM(I52:I53) -> 49107.439 | J51: =SUM(J52:J53) -> 370000 | K51: =SUM(K52:K53) -> 49107.439
A52: 64222 | B52: -10 | C52: Prihodi od zakupa poljoprivrednog zemljišta | D52: 300000 | E52: =SUM(D52/7.5345) -> 39816.843 | F52: 300000 | G52: =SUM(F52/7.5345) -> 39816.843 | H52: 300000 | I52: =SUM(H52/7.5345) -> 39816.843 | J52: 300000 | K52: =SUM(J52/7.5345) -> 39816.843
A53: 64229 | B53: -33 | C53: Ostali prihodi od iznajmljivanja i zakupa-Najam poslovnih prostora | D53: 70000 | E53: =SUM(D53/7.5345) -> 9290.5966 | F53: 70000 | G53: =SUM(F53/7.5345) -> 9290.5966 | H53: 70000 | I53: =SUM(H53/7.5345) -> 9290.5966 | J53: 70000 | K53: =SUM(J53/7.5345) -> 9290.5966
A54: 6423 | C54: Ostali prihodi od nefinancijske imovine | D54: =SUM(D55) -> 300000 | E54: =SUM(E55) -> 39816.843 | F54: =SUM(F55) -> 300000 | G54: =SUM(G55) -> 39816.843 | H54: =SUM(H55) -> 300000 | I54: =SUM(I55) -> 39816.843 | J54: =SUM(J55) -> 300000 | K54: =SUM(K55) -> 39816.843
A55: 64231 | B55: -13 | C55: Naknada za korištenje naftne luke, mineralne sirovine | D55: 300000 | E55: =SUM(D55/7.5345) -> 39816.843 | F55: 300000 | G55: =SUM(F55/7.5345) -> 39816.843 | H55: 300000 | I55: =SUM(H55/7.5345) -> 39816.843 | J55: 300000 | K55: =SUM(J55/7.5345) -> 39816.843
A56: 6429 | C56: Ostali prihodi od nefinancijske imovine | D56: =SUM(D57+D58+D59) -> 5000 | E56: =SUM(E57+E58+E59) -> 663.61404 | F56: =SUM(F57+F58+F59) -> 5000 | G56: =SUM(G57+G58+G59) -> 663.61404 | H56: =SUM(H57+H58+H59) -> 5000 | I56: =SUM(I57+I58+I59) -> 663.61404 | J56: =SUM(J57+J58+J59) -> 5000 | K56: =SUM(K57+K58+K59) -> 663.61404
A57: 64299 | B57: -37 | C57: Ostali prihodi od nefinancijske imovine-nezakonito izgrađene zgrade | D57: 5000 | E57: =SUM(D57/7.5345) -> 663.61404 | F57: 5000 | G57: =SUM(F57/7.5345) -> 663.61404 | H57: 5000 | I57: =SUM(H57/7.5345) -> 663.61404 | J57: 5000 | K57: =SUM(J57/7.5345) -> 663.61404
A58: 64299 | B58: -12 | C58: Ostali prihodi od nefinancijske imovine | D58: 0 | E58: =SUM(D58/7.5345) -> 0 | F58: 0 | G58: =SUM(F58/7.5345) -> 0 | H58: 0 | I58: =SUM(H58/7.5345) -> 0 | J58: 0 | K58: =SUM(J58/7.5345) -> 0
A59: 64299 | B59: -44 | C59: Povrat pozajmice DV Sunce | D59: 0 | E59: =SUM(D59/7.5345) -> 0 | F59: 0 | G59: =SUM(F59/7.5345) -> 0 | H59: 0 | I59: =SUM(H59/7.5345) -> 0 | J59: 0 | K59: =SUM(J59/7.5345) -> 0
A60: 65 | C60: Prihodi od administrativnih pristojbi i po posebnim propisima | D60: =SUM(D61+D70) -> 1617000 | E60: =SUM(E61+E70) -> 214612.78 | F60: =SUM(F61+F70) -> 1617000 | G60: =SUM(G61+G70) -> 214612.78 | H60: =SUM(H61+H70) -> 1747000 | I60: =SUM(I61+I70) -> 231866.75 | J60: =SUM(J61+J70) -> 1747000 | K60: =SUM(K61+K70) -> 231866.75
A61: 652 | C61: Prihodi po posebnim propisima | D61: =SUM(D62+D64+D66+D68) -> 1527000 | E61: =SUM(E62+E64+E66+E68) -> 202667.73 | F61: =SUM(F62+F64+F66+F68) -> 1527000 | G61: =SUM(G62+G64+G66+G68) -> 202667.73 | H61: =SUM(H62+H64+H66+H68) -> 1527000 | I61: =SUM(I62+I64+I66+I68) -> 202667.73 | J61: =SUM(J62+J64+J66+J68) -> 1527000 | K61: =SUM(K62+K64+K66+K68) -> 202667.73
A62: 6522 | C62: Prihodi vodoprivrede | D62: =SUM(D63) -> 2000 | E62: =SUM(E63) -> 265.44562 | F62: =SUM(F63) -> 2000 | G62: =SUM(G63) -> 265.44562 | H62: =SUM(H63) -> 2000 | I62: =SUM(I63) -> 265.44562 | J62: =SUM(J63) -> 2000 | K62: =SUM(K63) -> 265.44562
A63: 65221 | B63: -15 | C63: Vodni doprinos | D63: 2000 | E63: =SUM(D63/7.5345) -> 265.44562 | F63: 2000 | G63: =SUM(F63/7.5345) -> 265.44562 | H63: 2000 | I63: =SUM(H63/7.5345) -> 265.44562 | J63: 2000 | K63: =SUM(J63/7.5345) -> 265.44562
A64: 6524 | C64: Doprinosi za šume | D64: =SUM(D65) -> 1500000 | E64: =SUM(E65) -> 199084.21 | F64: =SUM(F65) -> 1500000 | G64: =SUM(G65) -> 199084.21 | H64: =SUM(H65) -> 1500000 | I64: =SUM(I65) -> 199084.21 | J64: =SUM(J65) -> 1500000 | K64: =SUM(K65) -> 199084.21
A65: 65241 | B65: -16 | C65: Doprinosi za šume | D65: 1500000 | E65: =SUM(D65/7.5345) -> 199084.21 | F65: 1500000 | G65: =SUM(F65/7.5345) -> 199084.21 | H65: 1500000 | I65: =SUM(H65/7.5345) -> 199084.21 | J65: 1500000 | K65: =SUM(J65/7.5345) -> 199084.21
A66: 6525 | C66: Mjesni samodoprinos | D66: =SUM(D67) -> 0 | E66: =SUM(E67) -> 0 | F66: =SUM(F67) -> 0 | G66: =SUM(G67) -> 0 | H66: =SUM(H67) -> 0 | I66: =SUM(I67) -> 0 | J66: =SUM(J67) -> 0 | K66: =SUM(K67) -> 0
A67: 65251 | B67: -17 | C67: Mjesni samodoprinos | D67: 0 | E67: =SUM(D67/7.5345) -> 0 | F67: 0 | G67: =SUM(F67/7.5345) -> 0 | H67: 0 | I67: =SUM(H67/7.5345) -> 0 | J67: 0 | K67: =SUM(J67/7.5345) -> 0
A68: 6526 | C68: Ostali nespomenuti prihodi | D68: =SUM(D69) -> 25000 | E68: =SUM(E69) -> 3318.0702 | F68: =SUM(F69) -> 25000 | G68: =SUM(G69) -> 3318.0702 | H68: =SUM(H69) -> 25000 | I68: =SUM(I69) -> 3318.0702 | J68: =SUM(J69) -> 25000 | K68: =SUM(K69) -> 3318.0702
A69: 65269 | B69: -18 | C69: Ostali nespomenuti prihodi | D69: 25000 | E69: =SUM(D69/7.5345) -> 3318.0702 | F69: 25000 | G69: =SUM(F69/7.5345) -> 3318.0702 | H69: 25000 | I69: =SUM(H69/7.5345) -> 3318.0702 | J69: 25000 | K69: =SUM(J69/7.5345) -> 3318.0702
A70: 653 | C70: Komunalni doprinosi i naknade | D70: =SUM(D71+D73) -> 90000 | E70: =SUM(E71+E73) -> 11945.053 | F70: =SUM(F71+F73) -> 90000 | G70: =SUM(G71+G73) -> 11945.053 | H70: =SUM(H71+H73) -> 220000 | I70: =SUM(I71+I73) -> 29199.018 | J70: =SUM(J71+J73) -> 220000 | K70: =SUM(K71+K73) -> 29199.018
A71: 6531 | C71: Komunalni doprinosi | D71: =SUM(D72) -> 20000 | E71: =SUM(E72) -> 2654.4562 | F71: =SUM(F72) -> 20000 | G71: =SUM(G72) -> 2654.4562 | H71: =SUM(H72) -> 20000 | I71: =SUM(I72) -> 2654.4562 | J71: =SUM(J72) -> 20000 | K71: =SUM(K72) -> 2654.4562
A72: 65311 | B72: -19 | C72: Komunalni doprinos | D72: 20000 | E72: =SUM(D72/7.5345) -> 2654.4562 | F72: 20000 | G72: =SUM(F72/7.5345) -> 2654.4562 | H72: 20000 | I72: =SUM(H72/7.5345) -> 2654.4562 | J72: 20000 | K72: =SUM(J72/7.5345) -> 2654.4562
A73: 6532 | C73: Komunalne naknade | D73: =SUM(D74) -> 70000 | E73: =SUM(E74) -> 9290.5966 | F73: =SUM(F74) -> 70000 | G73: =SUM(G74) -> 9290.5966 | H73: =SUM(H74) -> 200000 | I73: =SUM(I74) -> 26544.562 | J73: =SUM(J74) -> 200000 | K73: =SUM(K74) -> 26544.562
A74: 65321 | B74: -20 | C74: Komunalna naknada | D74: 70000 | E74: =SUM(D74/7.5345) -> 9290.5966 | F74: 70000 | G74: =SUM(F74/7.5345) -> 9290.5966 | H74: 200000 | I74: =SUM(H74/7.5345) -> 26544.562 | J74: 200000 | K74: =SUM(J74/7.5345) -> 26544.562
A75: 66 | C75: Prihodi od prodajeproizvoda i roba te pruženih usluga i prihodi od donacija | D75: =SUM(D76) -> 5000 | E75: =SUM(E76) -> 663.61404 | F75: =SUM(F76) -> 5000 | G75: =SUM(G76) -> 663.61404 | H75: =SUM(H76) -> 5000 | I75: =SUM(I76) -> 663.61404 | J75: =SUM(J76) -> 5000 | K75: =SUM(K76) -> 663.61404
A76: 66142 | B76: -66 | C76: prihodi od prodaje roba | D76: 5000 | E76: =SUM(D76/7.5345) -> 663.61404 | F76: 5000 | G76: =SUM(F76/7.5345) -> 663.61404 | H76: 5000 | I76: =SUM(H76/7.5345) -> 663.61404 | J76: 5000 | K76: =SUM(J76/7.5345) -> 663.61404
A77: 7 | C77: Prihodi od prodaje nefinancijske | D77: =SUM(D78+D83) -> 380000 | E77: =SUM(E78+E83) -> 50434.667 | F77: =SUM(F78+F83) -> 380000 | G77: =SUM(G78+G83) -> 50434.667 | H77: =SUM(H78+H83) -> 380000 | I77: =SUM(I78+I83) -> 50434.667 | J77: =SUM(J78+J83) -> 380000 | K77: =SUM(K78+K83) -> 50434.667
A78: 71 | C78: Prihodi od prodaje neproizvedene dugotrajne imovine | D78: =SUM(D79+D81) -> 380000 | E78: =SUM(E79+E81) -> 50434.667 | F78: =SUM(F79+F81) -> 380000 | G78: =SUM(G79+G81) -> 50434.667 | H78: =SUM(H79+H81) -> 380000 | I78: =SUM(I79+I81) -> 50434.667 | J78: =SUM(J79+J81) -> 380000 | K78: =SUM(K79+K81) -> 50434.667
A79: 7111 | C79: Prihodi od prodaje gradevinskih objekata | D79: =SUM(D80) -> 300000 | E79: =SUM(E80) -> 39816.843 | F79: =SUM(F80) -> 300000 | G79: =SUM(G80) -> 39816.843 | H79: =SUM(H80) -> 300000 | I79: =SUM(I80) -> 39816.843 | J79: =SUM(J80) -> 300000 | K79: =SUM(K80) -> 39816.843
B80: -58 | C80: PRODAJA POLJOPR ZEMLJIŠTA | D80: 300000 | E80: =SUM(D80/7.5345) -> 39816.843 | F80: 300000 | G80: =SUM(F80/7.5345) -> 39816.843 | H80: 300000 | I80: =SUM(H80/7.5345) -> 39816.843 | J80: 300000 | K80: =SUM(J80/7.5345) -> 39816.843
A81: 72144 | C81: Preva korištenja telefonskih linija | D81: =SUM(D82) -> 80000 | E81: =SUM(E82) -> 10617.825 | F81: =SUM(F82) -> 80000 | G81: =SUM(G82) -> 10617.825 | H81: =SUM(H82) -> 80000 | I81: =SUM(I82) -> 10617.825 | J81: =SUM(J82) -> 80000 | K81: =SUM(K82) -> 10617.825
B82: -60 | C82: NAKANADA ZA KORIŠTENJE TELEFONSKIH LINIJA | D82: 80000 | E82: =SUM(D82/7.5345) -> 10617.825 | F82: 80000 | G82: =SUM(F82/7.5345) -> 10617.825 | H82: 80000 | I82: =SUM(H82/7.5345) -> 10617.825 | J82: 80000 | K82: =SUM(J82/7.5345) -> 10617.825
A83: 72 | C83: Prihodi od prodaje proizvedene dugotrajne imovine | D83: =SUM(D84) -> 0 | E83: =SUM(E84) -> 0 | F83: =SUM(F84) -> 0 | G83: =SUM(G84) -> 0 | H83: =SUM(H84) -> 0 | I83: =SUM(I84) -> 0 | J83: =SUM(J84) -> 0 | K83: =SUM(K84) -> 0
A84: 721 | C84: Prihodi od prodaje gradevinskih objekata | D84: =SUM(D85+D88) -> 0 | E84: =SUM(E85+E88) -> 0 | F84: =SUM(F85+F88) -> 0 | G84: =SUM(G85+G88) -> 0 | H84: =SUM(H85+H88) -> 0 | I84: =SUM(I85+I88) -> 0 | J84: =SUM(J85+J88) -> 0 | K84: =SUM(K85+K88) -> 0
A85: 7211 | C85: Stambeni objekti | D85: =SUM(D86:D87) -> 0 | E85: =SUM(E86:E87) -> 0 | F85: =SUM(F86:F87) -> 0 | G85: =SUM(G86:G87) -> 0 | H85: =SUM(H86:H87) -> 0 | I85: =SUM(I86:I87) -> 0 | J85: =SUM(J86:J87) -> 0 | K85: =SUM(K86:K87) -> 0
A86: 72110 | B86: -25 | C86: Stambeni objekti | D86: 0 | E86: =SUM(D86/7.5345) -> 0 | F86: 0 | G86: =SUM(F86/7.5345) -> 0 | H86: 0 | I86: =SUM(H86/7.5345) -> 0 | J86: 0 | K86: =SUM(J86/7.5345) -> 0
A87: 72112 | B87: -26 | C87: Stambeni objekti za socijalne skupine | D87: 0 | E87: =SUM(D87/7.5345) -> 0 | F87: 0 | G87: =SUM(F87/7.5345) -> 0 | H87: 0 | I87: =SUM(H87/7.5345) -> 0 | J87: 0 | K87: =SUM(J87/7.5345) -> 0
A88: 7212 | C88: Poslovni objekti | D88: =SUM(D89:D89) -> 0 | E88: =SUM(E89:E89) -> 0 | F88: =SUM(F89:F89) -> 0 | G88: =SUM(G89:G89) -> 0 | H88: =SUM(H89:H89) -> 0 | I88: =SUM(I89:I89) -> 0 | J88: =SUM(J89:J89) -> 0 | K88: =SUM(K89:K89) -> 0
A89: 72129 | B89: -27 | C89: Ostali poslovni gradevinski objekti | D89: 0 | E89: =SUM(D89/7.5345) -> 0 | F89: 0 | G89: =SUM(F89/7.5345) -> 0 | H89: 0 | I89: =SUM(H89/7.5345) -> 0 | J89: 0 | K89: =SUM(J89/7.5345) -> 0
A90: 8 | C90: Primici od financijske imovine i zaduživanja | D90: =SUM(D91+D94) -> 72000 | E90: =SUM(E91+E94) -> 9556.0422 | F90: =SUM(F91+F94) -> 0 | G90: =SUM(G91+G94) -> 0 | H90: =SUM(H91+H94) -> 0 | I90: =SUM(I91+I94) -> 0 | J90: =SUM(J91+J94) -> 0 | K90: =SUM(K91+K94) -> 0
A91: 81 | C91: Pri depozitaimljeni povrati glavnica danih zajmova | D91: =SUM(D92) -> 72000 | E91: =SUM(E92) -> 9556.0422 | F91: =SUM(F92) -> 0 | G91: =SUM(G92) -> 0 | H91: =SUM(H92) -> 0 | I91: =SUM(I92) -> 0 | J91: =SUM(J92) -> 0 | K91: =SUM(K92) -> 0
A92: 84452 | B92: -65 | C92: primici od povrata depozita od inozemnih kredita i ostalih financijskih institucija -kratkoročni POVRAT DEPOZITA | D92: 72000 | E92: =SUM(D92/7.5345) -> 9556.0422 | F92: 0 | G92: =SUM(F92/7.5345) -> 0 | H92: 0 | I92: =SUM(H92/7.5345) -> 0 | J92: 0 | K92: =SUM(J92/7.5345) -> 0
A93: 84 | C93: Primici od zaduživanja | D93: =SUM(D94) -> 0 | E93: =SUM(E94) -> 0 | F93: =SUM(F94) -> 0 | G93: =SUM(G94) -> 0 | H93: =SUM(H94) -> 0 | I93: =SUM(I94) -> 0 | J93: =SUM(J94) -> 0 | K93: =SUM(K94) -> 0
A94: 844 | C94: Primljeni krediti i zajmovi od kreditnih i i ostalih financijskoh institucija izvan javnog sektora | D94: =SUM(D95:D95) -> 0 | E94: =SUM(E95:E95) -> 0 | F94: =SUM(F95:F95) -> 0 | G94: =SUM(G95:G95) -> 0 | H94: =SUM(H95:H95) -> 0 | I94: =SUM(I95:I95) -> 0 | J94: =SUM(J95:J95) -> 0 | K94: =SUM(K95:K95) -> 0
A95: 84452 | B95: -41 | C95: Primljeni zajmovi od ostalih tuzemnih financijskoh institucija izvan javnog sektora-dugoročni | D95: 0 | E95: =SUM(D95/7.5345) -> 0 | F95: 0 | G95: =SUM(F95/7.5345) -> 0 | H95: 0 | I95: =SUM(H95/7.5345) -> 0 | J95: 0 | K95: =SUM(J95/7.5345) -> 0
A96: 9 | C96: Vlastiti izvori | D96: =SUM(D97) -> 0 | E96: =SUM(E97) -> 0 | F96: =SUM(F97) -> 0 | G96: =SUM(G97) -> 0 | H96: =SUM(H97) -> 0 | I96: =SUM(I97) -> 0 | J96: =SUM(J97) -> 0 | K96: =SUM(K97) -> 0
A97: 92 | C97: Rezultat poslovanja | D97: =SUM(D98) -> 0 | E97: =SUM(E98) -> 0 | F97: =SUM(F98) -> 0 | G97: =SUM(G98) -> 0 | H97: =SUM(H98) -> 0 | I97: =SUM(I98) -> 0 | J97: =SUM(J98) -> 0 | K97: =SUM(K98) -> 0
A98: 9221 | C98: Višak prihoda poslovanja | D98: 0 | E98: =SUM(D98/7.5345) -> 0 | F98: 0 | G98: =SUM(F98/7.5345) -> 0 | H98: 0 | I98: =SUM(H98/7.5345) -> 0 | J98: 0 | K98: =SUM(J98/7.5345) -> 0
C99: UKUPNO | D99: =SUM(D5+D75+D77+D90+D96) -> 10734000 | E99: =SUM(E5+E75+E77+E90+E96) -> 1424646.6 | F99: =SUM(F5+F75+F77+F90+F96) -> 15670450 | G99: =SUM(G5+G75+G77+G90+G96) -> 2079826.1 | H99: =SUM(H5+H75+H77+H90+H96) -> 16292950 | I99: =SUM(I5+I75+I77+I90+I96) -> 2162446.1 | J99: =SUM(J5+J75+J77+J90+J96) -> 16163950 | K99: =SUM(K5+K75+K77+K90+K96) -> 2145324.8
C102: PRIHODI | D102: =SUM(D99) -> 10734000 | E102: =SUM(E99) -> 1424646.6 | F102: =SUM(F99) -> 15670450 | G102: =SUM(G99) -> 2079826.1 | H102: =SUM(H99) -> 16292950 | I102: =SUM(I99) -> 2162446.1 | J102: =SUM(J99) -> 16163950 | K102: =SUM(K99) -> 2145324.8
C103: RASHODI | D103: =SUM(' 2023 rashodi'!D301) -> 10734000 | E103: =SUM(' 2023 rashodi'!E301) -> 1424646.6 | F103: =SUM(' 2023 rashodi'!F301) -> 15670450 | G103: =SUM(' 2023 rashodi'!G301) -> 2079826.1 | H103: =SUM(' 2023 rashodi'!H301) -> 16292950 | I103: =SUM(' 2023 rashodi'!I301) -> 2162446.1 | J103: =SUM(' 2023 rashodi'!J301) -> 16163950 | K103: =SUM(' 2023 rashodi'!K301) -> 2145324.8
...
