Workbook

Sheet  2023 rashodi
B1: NACRT PRIJEDLOGA PRORAČUNA OPĆINE ĐULOVAC ZA 2023. GOD. SA PROJEKCIJAMA 2024. I 2025. GODINA
D3: PRORAČUN 2022. (2. Rebalans) | E3: PRORAČUN 2022. (2. Rebalans) EUR | F3: PRORAČUN 2023. | G3: PRORAČUN 2023 EUR | H3: PROJEKCIJE 2024 | I3: PROJEKCIJE 2024 EUR | J3: PROJEKCIJE 2025 | K3: PROJEKCIJE 2025 EUR
A4: RAZDJEL 001 | B4: OPĆINA ĐULOVAC | D4: =SUM(D5+D15+D256+D296) -> 10734000 | E4: =SUM(E5+E15+E256+E296) -> 1424646.6 | F4: =SUM(F5+F15+F256+F296) -> 15670450 | G4: =SUM(F4/7.5345) -> 2079826.1 | H4: =SUM(H5+H15+H256+H296) -> 16292950 | I4: =SUM(I5+I15+I256+I296) -> 2162446.1 | J4: =SUM(J5+J15+J256+J296) -> 16163950 | K4: =SUM(K5+K15+K256+K296) -> 2145324.8
A5: GLAVA 00110 | B5: PREDSTAVNIČKO I IZVRŠNO TIJELO | D5: =SUM(D6) -> 410000 | E5: =SUM(E6) -> 54416.351 | F5: =SUM(F6) -> 450000 | G5: =SUM(F5/7.5345) -> 59725.264 | H5: =SUM(H6) -> 440000 | I5: =SUM(I6) -> 58398.036 | J5: =SUM(J6) -> 470000 | K5: =SUM(K6) -> 62379.72
A6: Program 1001 | B6: JAVNA UPRAVA | C6: pozicija | D6: =SUM(D7+D11+D13) -> 410000 | E6: =SUM(E7+E11+E13) -> 54416.351 | F6: =SUM(F7+F11+F13) -> 450000 | G6: =SUM(F6/7.5345) -> 59725.264 | H6: =SUM(H7+H11+H13) -> 440000 | I6: =SUM(I7+I11+I13) -> 58398.036 | J6: =SUM(J7+J11+J13) -> 470000 | K6: =SUM(K7+K11+K13) -> 62379.72
A7: račun | B7: Akt. A100101 Donošenje akata | C7: pozicija | D7: =SUM(D8:D10) -> 360000 | E7: =SUM(E8:E10) -> 47780.211 | F7: =SUM(F8:F10) -> 420000 | G7: =SUM(G8:G10) -> 55743.58 | H7: =SUM(H8:H10) -> 420000 | I7: =SUM(I8:I10) -> 55743.58 | J7: =SUM(J8:J10) -> 420000 | K7: =SUM(K8:K10) -> 55743.58
A8: 32911 | B8: Naknade vijećnicima | C8: 1 | D8: 90000 | E8: =SUM(D8)/7.5345 -> 11945.053 | F8: 100000 | G8: =SUM(F8)/7.5345 -> 13272.281 | H8: 100000 | I8: =SUM(H8)/7.5345 -> 13272.281 | J8: 100000 | K8: =SUM(J8)/7.5345 -> 13272.281
A9: 32911 | B9: naknade za rad općinskih dužnosnika | C9: 146 | D9: 250000 | E9: =SUM(D9)/7.5345 -> 33180.702 | F9: 300000 | G9: =SUM(F9)/7.5345 -> 39816.843 | H9: 300000 | I9: =SUM(H9)/7.5345 -> 39816.843 | J9: 300000 | K9: =SUM(J9)/7.5345 -> 39816.843
A10: 38311 | B10: proračunska pričuva | C10: 164 | D10: 20000 | E10: =SUM(D10)/7.5345 -> 2654.4562 | F10: 20000 | G10: =SUM(F10)/7.5345 -> 2654.4562 | H10: 20000 | I10: =SUM(H10)/7.5345 -> 2654.4562 | J10: 20000 | K10: =SUM(J10)/7.5345 -> 2654.4562
A11: račun | B11: Akt. A 100102 Provedba izbora | C11: pozicija | D11: =SUM(D12) -> 50000 | E11: =SUM(E12) -> 6636.1404 | F11: =SUM(F12) -> 20000 | G11: =SUM(G12) -> 2654.4562 | H11: =SUM(H12) -> 20000 | I11: =SUM(I12) -> 2654.4562 | J11: =SUM(J12) -> 50000 | K11: =SUM(K12) -> 6636.1404
A12: 38114 | B12: izbori i političke stranke | C12: 2 | D12: 50000 | E12: =SUM(D12)/7.5345 -> 6636.1404 | F12: 20000 | G12: =SUM(F12)/7.5345 -> 2654.4562 | H12: 20000 | I12: =SUM(H12)/7.5345 -> 2654.4562 | J12: 50000 | K12: =SUM(J12)/7.5345 -> 6636.1404
A13: 3831 | B13: Akt.100103 nova aktivnost-naknada štete pravnim i fizičkim osobama | C13: pozicija | D13: =SUM(D14) -> 0 | E13: =SUM(E14) -> 0 | F13: =SUM(F14) -> 10000 | G13: =SUM(G14) -> 1327.2281 | H13: =SUM(H14) -> 0 | I13: =SUM(I14) -> 0 | J13: =SUM(J14) -> 0 | K13: =SUM(K14) -> 0
A14: 3831 | B14: naknada štete fizičkoj osobi po sudskoj presudi | C14: 222 | D14: 0 | E14: =SUM(D14)/7.5345 -> 0 | F14: 10000 | G14: =SUM(F14)/7.5345 -> 1327.2281 | H14: 0 | I14: =SUM(H14)/7.5345 -> 0 | J14: 0 | K14: =SUM(J14)/7.5345 -> 0
A15: GLAVA 00120 | B15: JEDINSTVENI UPRAVNI ODJEL | D15: =SUM(D16+D76+D106+D167+D178+D196+D211+D221+D227+D233) -> 9197700 | E15: =SUM(E16+E76+E106+E167+E178+E196+E211+E221+E227+E233) -> 1220744.6 | F15: =SUM(F16+F76+F106+F167+F178+F196+F211+F221+F227+F233) -> 12171950 | G15: =SUM(G16+G76+G106+G167+G178+G196+G211+G221+G227+G233) -> 1615495.4 | H15: =SUM(H16+H76+H106+H167+H178+H196+H211+H221+H227+H233) -> 14504450 | I15: =SUM(I16+I76+I106+I167+I178+I196+I211+I221+I227+I233) -> 1925071.3 | J15: =SUM(J16+J76+J106+J167+J178+J196+J211+J221+J227+J233) -> 14295450 | K15: =SUM(K16+K76+K106+K167+K178+K196+K211+K221+K227+K233) -> 1897332.3
A16: Program 1002 | B16: JAVNA UPRAVA I ADMINISTRACIJA | C16: pozicija | D16: =SUM(D17+D29+D67+D70) -> 2196700 | E16: =SUM(E17+E29+E67+E70) -> 291552.19 | F16: =SUM(F17+F29+F67+F70) -> 2826750 | G16: =SUM(G17+G29+G67+G70) -> 375174.2 | H16: =SUM(H17+H29+H67+H70) -> 2274950 | I16: =SUM(I17+I29+I67+I70) -> 301937.75 | J16: =SUM(J17+J29+J67+J70) -> 2199950 | K16: =SUM(K17+K29+K67+K70) -> 291983.54
A17: račun | B17: Akt. A100201 Stručno administartivno i tehničko osoblje | C17: pozicija | D17: =SUM(D18:D28) -> 920000 | E17: =SUM(E18:E28) -> 122104.98 | F17: =SUM(F18:F28) -> 1158750 | G17: =SUM(G18:G28) -> 153792.55 | H17: =SUM(H18:H28) -> 1158750 | I17: =SUM(I18:I28) -> 153792.55 | J17: =SUM(J18:J28) -> 1158750 | K17: =SUM(K18:K28) -> 153792.55
A18: 31111 | B18: plaće za zaposlene | C18: 3 | D18: 620000 | E18: =SUM(D18)/7.5345 -> 82288.141 | F18: 800000 | G18: =SUM(F18)/7.5345 -> 106178.25 | H18: 800000 | I18: =SUM(H18)/7.5345 -> 106178.25 | J18: 800000 | K18: =SUM(J18)/7.5345 -> 106178.25
A19: 31211 | B19: bonus za uspješan rad | C19: 4 | D19: 60000 | E19: =SUM(D19)/7.5345 -> 7963.3685 | F19: 70000 | G19: =SUM(F19)/7.5345 -> 9290.5966 | H19: 70000 | I19: =SUM(H19)/7.5345 -> 9290.5966 | J19: 70000 | K19: =SUM(J19)/7.5345 -> 9290.5966
A20: 31213 | B20: darovi | C20: 5 | D20: 0 | E20: =SUM(D20)/7.5345 -> 0 | F20: 750 | G20: =SUM(F20)/7.5345 -> 99.542106 | H20: 750 | I20: =SUM(H20)/7.5345 -> 99.542106 | J20: 750 | K20: =SUM(J20)/7.5345 -> 99.542106
A21: 31219 | B21: ostali nenavedeni rashodi za zaposlene | C21: 6 | D21: 50000 | E21: =SUM(D21)/7.5345 -> 6636.1404 | F21: 50000 | G21: =SUM(F21)/7.5345 -> 6636.1404 | H21: 50000 | I21: =SUM(H21)/7.5345 -> 6636.1404 | J21: 50000 | K21: =SUM(J21)/7.5345 -> 6636.1404
A22: 31321 | B22: doprinosi za obvezno ZO 13% | C22: 7 | D22: 102000 | E22: =SUM(D22)/7.5345 -> 13537.726 | F22: 150000 | G22: =SUM(F22)/7.5345 -> 19908.421 | H22: 150000 | I22: =SUM(H22)/7.5345 -> 19908.421 | J22: 150000 | K22: =SUM(J22)/7.5345 -> 19908.421
A23: 32121 | B23: naknade za prijevoz s posla i na posao | C23: 9 | D23: 80000 | E23: =SUM(D23)/7.5345 -> 10617.825 | F23: 80000 | G23: =SUM(F23)/7.5345 -> 10617.825 | H23: 80000 | I23: =SUM(H23)/7.5345 -> 10617.825 | J23: 80000 | K23: =SUM(J23)/7.5345 -> 10617.825
A24: 32131 | B24: seminari, savjetovanja simpoziji | C24: 10 | D24: 6000 | E24: =SUM(D24)/7.5345 -> 796.33685 | F24: 6000 | G24: =SUM(F24)/7.5345 -> 796.33685 | H24: 6000 | I24: =SUM(H24)/7.5345 -> 796.33685 | J24: 6000 | K24: =SUM(J24)/7.5345 -> 796.33685
A25: 32141 | B25: naknada za korištenje privatnog automobila u službene svrhe | C25: 11 | D25: 2000 | E25: =SUM(D25)/7.5345 -> 265.44562 | F25: 2000 | G25: =SUM(F25)/7.5345 -> 265.44562 | H25: 2000 | I25: =SUM(H25)/7.5345 -> 265.44562 | J25: 2000 | K25: =SUM(J25)/7.5345 -> 265.44562
A26: 42311 | B26: kupnja službenog automobila | C26: 198 | D26: 0 | E26: =SUM(D26)/7.5345 -> 0 | F26: 0 | G26: =SUM(F26)/7.5345 -> 0 | H26: 0 | I26: =SUM(H26)/7.5345 -> 0 | J26: 0 | K26: =SUM(J26)/7.5345 -> 0
A27: 32999 | B27: ostali rashodi Poslovanja | C27: 237 | D27: 0 | E27: =SUM(D27)/7.5345 -> 0 | F27: 0 | G27: =SUM(F27)/7.5345 -> 0 | H27: 0 | I27: =SUM(H27)/7.5345 -> 0 | J27: 0 | K27: =SUM(J27)/7.5345 -> 0
A28: 32412 | B28: straučno osbosobljavanja Općina | C28: 260 | D28: 0 | E28: =SUM(D28)/7.5345 -> 0 | F28: 0 | G28: =SUM(F28)/7.5345 -> 0 | H28: 0 | I28: =SUM(H28)/7.5345 -> 0 | J28: 0 | K28: =SUM(J28)/7.5345 -> 0
A29: račun | B29: Akt. A 100202 Pripremanje akata iz djelokruga JU | C29: pozicija | D29: =SUM(D30:D66) -> 818000 | E29: =SUM(E30:E66) -> 108567.26 | F29: =SUM(F30:F66) -> 832000 | G29: =SUM(G30:G66) -> 110425.38 | H29: =SUM(H30:H66) -> 852000 | I29: =SUM(I30:I66) -> 113079.83 | J29: =SUM(J30:J66) -> 882000 | K29: =SUM(K30:K66) -> 117061.52
A30: 32211 | B30: uredski materijal | C30: 12 | D30: 10000 | E30: =SUM(D30)/7.5345 -> 1327.2281 | F30: 10000 | G30: =SUM(F30)/7.5345 -> 1327.2281 | H30: 10000 | I30: =SUM(H30)/7.5345 -> 1327.2281 | J30: 10000 | K30: =SUM(J30)/7.5345 -> 1327.2281
A31: 32212 | B31: literatura | C31: 13 | D31: 500 | E31: =SUM(D31)/7.5345 -> 66.361404 | F31: 2000 | G31: =SUM(F31)/7.5345 -> 265.44562 | H31: 2000 | I31: =SUM(H31)/7.5345 -> 265.44562 | J31: 2000 | K31: =SUM(J31)/7.5345 -> 265.44562
A32: 32213 | B32: arhivski materijal | C32: 14 | D32: 35000 | E32: =SUM(D32)/7.5345 -> 4645.2983 | F32: 1000 | G32: =SUM(F32)/7.5345 -> 132.72281 | H32: 1000 | I32: =SUM(H32)/7.5345 -> 132.72281 | J32: 1000 | K32: =SUM(J32)/7.5345 -> 132.72281
A33: 32214 | B33: materijal i sredstva za čišćenje i održavanje | C33: 15 | D33: 4000 | E33: =SUM(D33)/7.5345 -> 530.89123 | F33: 4000 | G33: =SUM(F33)/7.5345 -> 530.89123 | H33: 4000 | I33: =SUM(H33)/7.5345 -> 530.89123 | J33: 4000 | K33: =SUM(J33)/7.5345 -> 530.89123
A34: 32219 | B34: obilježavanje značajnih datuma | C34: 16 | D34: 15000 | E34: =SUM(D34)/7.5345 -> 1990.8421 | F34: 15000 | G34: =SUM(F34)/7.5345 -> 1990.8421 | H34: 15000 | I34: =SUM(H34)/7.5345 -> 1990.8421 | J34: 15000 | K34: =SUM(J34)/7.5345 -> 1990.8421
A35: 32234 | B35: motorni benzin i dizel gorivo | C35: 17 | D35: 40000 | E35: =SUM(D35)/7.5345 -> 5308.9123 | F35: 40000 | G35: =SUM(F35)/7.5345 -> 5308.9123 | H35: 40000 | I35: =SUM(H35)/7.5345 -> 5308.9123 | J35: 40000 | K35: =SUM(J35)/7.5345 -> 5308.9123
A36: 32239 | B36: drva za ogrijev | C36: 22 | D36: 8500 | E36: =SUM(D36)/7.5345 -> 1128.1439 | F36: 10000 | G36: =SUM(F36)/7.5345 -> 1327.2281 | H36: 10000 | I36: =SUM(H36)/7.5345 -> 1327.2281 | J36: 10000 | K36: =SUM(J36)/7.5345 -> 1327.2281
A37: 32241 | B37: materijal i djelovi za tek. I invest. održavanje građevinskih objekata | C37: 18 | D37: 5000 | E37: =SUM(D37)/7.5345 -> 663.61404 | F37: 5000 | G37: =SUM(F37)/7.5345 -> 663.61404 | H37: 5000 | I37: =SUM(H37)/7.5345 -> 663.61404 | J37: 5000 | K37: =SUM(J37)/7.5345 -> 663.61404
A38: 32242 | B38: materijal i djelovi za tek. I invest. održavanje postrojenja i opreme | C38: 19 | D38: 15000 | E38: =SUM(D38)/7.5345 -> 1990.8421 | F38: 15000 | G38: =SUM(F38)/7.5345 -> 1990.8421 | H38: 15000 | I38: =SUM(H38)/7.5345 -> 1990.8421 | J38: 15000 | K38: =SUM(J38)/7.5345 -> 1990.8421
A39: 32243 | B39: materijal i djelovi za tek. I invest. Održavanje transportnih sredstava | C39: 20 | D39: 10000 | E39: =SUM(D39)/7.5345 -> 1327.2281 | F39: 10000 | G39: =SUM(F39)/7.5345 -> 1327.2281 | H39: 10000 | I39: =SUM(H39)/7.5345 -> 1327.2281 | J39: 10000 | K39: =SUM(J39)/7.5345 -> 1327.2281
A40: 32252 | B40: auto gume | C40: 21 | D40: 3000 | E40: =SUM(D40)/7.5345 -> 398.16843 | F40: 3000 | G40: =SUM(F40)/7.5345 -> 398.16843 | H40: 3000 | I40: =SUM(H40)/7.5345 -> 398.16843 | J40: 3000 | K40: =SUM(J40)/7.5345 -> 398.16843
A41: 32311 | B41: usluge telefona i telefaksa | C41: 23 | D41: 50000 | E41: =SUM(D41)/7.5345 -> 6636.1404 | F41: 50000 | G41: =SUM(F41)/7.5345 -> 6636.1404 | H41: 50000 | I41: =SUM(H41)/7.5345 -> 6636.1404 | J41: 50000 | K41: =SUM(J41)/7.5345 -> 6636.1404
...

Sheet proračun 2023. prihodi 
C2: NACRT PRIJEDLOGA PRORAČUNA OPĆINE ĐULOVAC ZA 2023. GODINU SA PROJEKCIJAMA 2024. I 2025. GODINE
A3: OPĆI DIO- PRIHODI
A4: Racun/ | B4: poz | C4: Opis | D4: PRORAČUN 2022. REBALANS | E4: PRORAČUN 2022. REBALANS EUR | F4: PRORAČUN 2023. | G4: PRORAČUN 2023.EUR | H4: PROJEKCIJE 2024 | I4: PROJEKCIJE 2024 EUR | J4: PROJEKCIJE 2025 | K4: PROJEKCIJE 2025 EUR
A5: 6 | C5: Prihodi poslovanja | D5: =SUM(D6+D18+D39+D60) -> 10277000 | E5: =SUM(E6+E18+E39+E60) -> 1363992.3 | F5: =SUM(F6+F18+F39+F60) -> 15285450 | G5: =SUM(G6+G18+G39+G60) -> 2028727.9 | H5: =SUM(H6+H18+H39+H60) -> 15907950 | I5: =SUM(I6+I18+I39+I60) -> 2111347.8 | J5: =SUM(J6+J18+J39+J60) -> 15778950 | K5: =SUM(K6+K18+K39+K60) -> 2094226.6
A6: 61 | C6: Prihodi od poreza | D6: =SUM(D7+D11+D15) -> 6474000 | E6: =SUM(E7+E11+E15) -> 859247.46 | F6: =SUM(F7+F11+F15) -> 7174000 | G6: =SUM(G7+G11+G15) -> 952153.43 | H6: =SUM(H7+H11+H15) -> 7174000 | I6: =SUM(I7+I11+I15) -> 952153.43 | J6: =SUM(J7+J11+J15) -> 7174000 | K6: =SUM(K7+K11+K15) -> 952153.43
A7: 611 | C7: Porez i prirez na dohodak | D7: =SUM(D8) -> 6300000 | E7: =SUM(E8) -> 836153.69 | F7: =SUM(F8) -> 7000000 | G7: =SUM(G8) -> 929059.66 | H7: =SUM(H8) -> 7000000 | I7: =SUM(I8) -> 929059.66 | J7: =SUM(J8) -> 7000000 | K7: =SUM(K8) -> 929059.66
A8: 6111 | C8: Porez i prirez na dohodak od nesamostalnog rada | D8: =SUM(D9+D10) -> 6300000 | E8: =SUM(E9+E10) -> 836153.69 | F8: =SUM(F9+F10) -> 7000000 | G8: =SUM(G9+G10) -> 929059.66 | H8: =SUM(H9+H10) -> 7000000 | I8: =SUM(I9+I10) -> 929059.66 | J8: =SUM(J9+J10) -> 7000000 | K8: =SUM(K9+K10) -> 929059.66
A9: 61111 | B9: -54 | C9: FISKALNO IZRAVNANJE | D9: 5500000 | E9: =SUM(D9/7.5345) -> 729975.45 | F9: 6000000 | G9: =SUM(F9/7.5345) -> 796336.85 | H9: 6000000 | I9: =SUM(H9/7.5345) -> 796336.85 | J9: 6000000 | K9: =SUM(J9/7.5345) -> 796336.85
A10: 61111 | B10: -1 | C10: Porez i prirez na dohodak od nesamostalnog rada i drugih samostalnih | D10: 800000 | E10: =SUM(D10/7.5345) -> 106178.25 | F10: 1000000 | G10: =SUM(F10/7.5345) -> 132722.81 | H10: 1000000 | I10: =SUM(H10/7.5345) -> 132722.81 | J10: 1000000 | K10: =SUM(J10/7.5345) -> 132722.81
A11: 613 | C11: Porezi na imovinu | D11: =SUM(D12) -> 164000 | E11: =SUM(E12) -> 21766.541 | F11: =SUM(F12) -> 164000 | G11: =SUM(G12) -> 21766.541 | H11: =SUM(H12) -> 164000 | I11: =SUM(I12) -> 21766.541 | J11: =SUM(J12) -> 164000 | K11: =SUM(K12) -> 21766.541
A12: 6131 | C12: Stalni porezi na nepokretnu imovinu | D12: =SUM(D13:D14) -> 164000 | E12: =SUM(E13:E14) -> 21766.541 | F12: =SUM(F13:F14) -> 164000 | G12: =SUM(G13:G14) -> 21766.541 | H12: =SUM(H13:H14) -> 164000 | I12: =SUM(I13:I14) -> 21766.541 | J12: =SUM(J13:J14) -> 164000 | K12: =SUM(K13:K14) -> 21766.541
A13: 61314 | B13: -2 | C13: Porez na kuce za odmor | D13: 4000 | E13: =SUM(D13/7.5345) -> 530.89123 | F13: 4000 | G13: =SUM(F13/7.5345) -> 530.89123 | H13: 4000 | I13: =SUM(H13/7.5345) -> 530.89123 | J13: 4000 | K13: =SUM(J13/7.5345) -> 530.89123
A14: 61319 | B14: -31 | C14: Ostali stalni porezi na nepokretnu imovinu | D14: 160000 | E14: =SUM(D14/7.5345) -> 21235.649 | F14: 160000 | G14: =SUM(F14/7.5345) -> 21235.649 | H14: 160000 | I14: =SUM(H14/7.5345) -> 21235.649 | J14: 160000 | K14: =SUM(J14/7.5345) -> 21235.649
A15: 614 | C15: Porezi na robu i usluge | D15: =SUM(D16) -> 10000 | E15: =SUM(E16) -> 1327.2281 | F15: =SUM(F16) -> 10000 | G15: =SUM(G16) -> 1327.2281 | H15: =SUM(H16) -> 10000 | I15: =SUM(I16) -> 1327.2281 | J15: =SUM(J16) -> 10000 | K15: =SUM(K16) -> 1327.2281
A16: 6142 | C16: Porez na promet | D16: =SUM(D17) -> 10000 | E16: =SUM(E17) -> 1327.2281 | F16: =SUM(F17) -> 10000 | G16: =SUM(G17) -> 1327.2281 | H16: =SUM(H17) -> 10000 | I16: =SUM(I17) -> 1327.2281 | J16: =SUM(J17) -> 10000 | K16: =SUM(K17) -> 1327.2281
A17: 61424 | B17: -3 | C17: Porez na potrošnju alkoholnih i bezalkoholnih pića | D17: 10000 | E17: =SUM(D17/7.5345) -> 1327.2281 | F17: 10000 | G17: =SUM(F17/7.5345) -> 1327.2281 | H17: 10000 | I17: =SUM(H17/7.5345) -> 1327.2281 | J17: 10000 | K17: =SUM(J17/7.5345) -> 1327.2281
A18: 63 | C18: Pomoci iz inozemstva (darovnice) i od subjekata unutar opce države | D18: =SUM(D19+D22+D28+D32) -> 1509900 | E18: =SUM(E19+E22+E28+E32) -> 200398.17 | F18: =SUM(F19+F22+F28+F32) -> 5818350 | G18: =SUM(G19+G22+G28+G32) -> 772227.75 | H18: =SUM(H19+H22+H28+H32) -> 6310850 | I18: =SUM(I19+I22+I28+I32) -> 837593.74 | J18: =SUM(J19+J22+J28+J32) -> 6181850 | K18: =SUM(K19+K22+K28+K32) -> 820472.49
A19: 632 | C19: Pomoci od medunarodnih organizacija | D19: =SUM(D20+D21) -> 194900 | E19: =SUM(E20+E21) -> 25867.675 | F19: =SUM(F20+F21) -> 2025650 | G19: =SUM(G20+G21) -> 268849.96 | H19: =SUM(H20+H21) -> 5515850 | I19: =SUM(I20+I21) -> 732079.1 | J19: =SUM(J20+J21) -> 5386850 | K19: =SUM(K20+K21) -> 714957.86
A20: 63241 | B20: -39 | C20: Kapitalne pomoci od institucija i tijela EU-FONDOVI | D20: 144900 | E20: =SUM(D20/7.5345) -> 19231.535 | F20: 1975650 | G20: =SUM(F20/7.5345) -> 262213.82 | H20: 5465850 | I20: =SUM(H20/7.5345) -> 725442.96 | J20: 5336850 | K20: =SUM(J20/7.5345) -> 708321.72
B21: -43 | C21: prihodi LAG | D21: 50000 | E21: =SUM(D21/7.5345) -> 6636.1404 | F21: 50000 | G21: =SUM(F21/7.5345) -> 6636.1404 | H21: 50000 | I21: =SUM(H21/7.5345) -> 6636.1404 | J21: 50000 | K21: =SUM(J21/7.5345) -> 6636.1404
A22: 6331 | C22: Tekuce pomoci iz proracuna | D22: =SUM(D23)+D25 -> 110000 | E22: =SUM(E23)+E25 -> 14599.509 | F22: =SUM(F23)+F25 -> 190000 | G22: =SUM(G23)+G25 -> 25217.334 | H22: =SUM(H23)+H25 -> 90000 | I22: =SUM(I23)+I25 -> 11945.053 | J22: =SUM(J23)+J25 -> 90000 | K22: =SUM(K23)+K25 -> 11945.053
A23: 63311 | C23: Tekuce pomoci iz državnog proracuna | D23: =SUM(D24) -> 0 | E23: =SUM(D23/7.5345) -> 0 | F23: =SUM(F24) -> 0 | G23: =SUM(F23/7.5345) -> 0 | H23: =SUM(H24) -> 0 | I23: =SUM(H23/7.5345) -> 0 | J23: =SUM(J24) -> 0 | K23: =SUM(J23/7.5345) -> 0
B24: -56 | C24: KOMPENZACIJSKA MJERA | D24: 0 | E24: =SUM(D24/7.5345) -> 0 | F24: 0 | G24: =SUM(F24/7.5345) -> 0 | H24: 0 | I24: =SUM(H24/7.5345) -> 0 | J24: 0 | K24: =SUM(J24/7.5345) -> 0
A25: 63312 | C25: Tekuce pomoci iz županijskog proracuna | D25: =SUM(D26:D27) -> 110000 | E25: =SUM(D25/7.5345) -> 14599.509 | F25: =SUM(F26:F27) -> 190000 | G25: =SUM(F25/7.5345) -> 25217.334 | H25: =SUM(H26:H27) -> 90000 | I25: =SUM(H25/7.5345) -> 11945.053 | J25: =SUM(J26:J27) -> 90000 | K25: =SUM(J25/7.5345) -> 11945.053
B26: -61 | C26: ELEMENTARNA NEPOGODA | D26: 20000 | E26: =SUM(D26/7.5345) -> 2654.4562 | F26: 100000 | G26: =SUM(F26/7.5345) -> 13272.281 | H26: 0 | I26: =SUM(H26/7.5345) -> 0 | J26: 0 | K26: =SUM(J26/7.5345) -> 0
B27: -29 | C27: DRVA BBŽ | D27: 90000 | E27: =SUM(D27/7.5345) -> 11945.053 | F27: 90000 | G27: =SUM(F27/7.5345) -> 11945.053 | H27: 90000 | I27: =SUM(H27/7.5345) -> 11945.053 | J27: 90000 | K27: =SUM(J27/7.5345) -> 11945.053
A28: 6332 | C28: Kapitalne pomoci iz državnog proracuna | D28: =SUM(D29) -> 1000000 | E28: =SUM(E29) -> 132722.81 | F28: =SUM(F29) -> 2300000 | G28: =SUM(G29) -> 305262.46 | H28: =SUM(H29) -> 500000 | I28: =SUM(I29) -> 66361.404 | J28: =SUM(J29) -> 500000 | K28: =SUM(K29) -> 66361.404
A29: 63321 | C29: Kapitalne pomoci iz državnog proracuna-sufinanciranje projekata | D29: =SUM(D30:D31) -> 1000000 | E29: =SUM(D29/7.5345) -> 132722.81 | F29: =SUM(F30:F31) -> 2300000 | G29: =SUM(F29/7.5345) -> 305262.46 | H29: =SUM(H30:H31) -> 500000 | I29: =SUM(H29/7.5345) -> 66361.404 | J29: =SUM(J30:J31) -> 500000 | K29: =SUM(J29/7.5345) -> 66361.404
B30: -63 | C30: ZA IZGRADNJU DV SUNCE -udio drž. Proračuna | D30: 0 | E30: =SUM(D30/7.5345) -> 0 | F30: 1800000 | G30: =SUM(F30/7.5345) -> 238901.06 | H30: 0 | I30: =SUM(H30/7.5345) -> 0 | J30: 0 | K30: =SUM(J30/7.5345) -> 0
B31: -38 | C31: SUFINANCIRANJE PROJEKATA | D31: 1000000 | E31: =SUM(D31/7.5345) -> 132722.81 | F31: 500000 | G31: =SUM(F31/7.5345) -> 66361.404 | H31: 500000 | I31: =SUM(H31/7.5345) -> 66361.404 | J31: 500000 | K31: =SUM(J31/7.5345) -> 66361.404
A32: 634 | C32: Pomoci od izvanproračunskih korisnika | D32: =SUM(D33) -> 205000 | E32: =SUM(E33) -> 27208.176 | F32: =SUM(F33) -> 1302700 | G32: =SUM(G33) -> 172898 | H32: =SUM(H33) -> 205000 | I32: =SUM(I33) -> 27208.176 | J32: =SUM(J33) -> 205000 | K32: =SUM(K33) -> 27208.176
A33: 6341 | C33: Tekuce pomoci od izvanproračunskih korisnika | D33: =SUM(D34) -> 205000 | E33: =SUM(E34) -> 27208.176 | F33: =SUM(F34) -> 1302700 | G33: =SUM(G34) -> 172898 | H33: =SUM(H34) -> 205000 | I33: =SUM(I34) -> 27208.176 | J33: =SUM(J34) -> 205000 | K33: =SUM(K34) -> 27208.176
A34: 63414 | C34: Tekuce pomoci od HZMO-a, HZZ-a i HZZO-a | D34: =SUM(D35:D36) -> 205000 | E34: =SUM(D34/7.5345) -> 27208.176 | F34: =SUM(F35:F36) -> 1302700 | G34: =SUM(F34/7.5345) -> 172898 | H34: =SUM(H35:H36) -> 205000 | I34: =SUM(H34/7.5345) -> 27208.176 | J34: =SUM(J35:J36) -> 205000 | K34: =SUM(J34/7.5345) -> 27208.176
B35: 3200 | C35: PROGRAM ZAŽELI | D35: 135000 | E35: =SUM(D35/7.5345) -> 17917.579 | F35: 1232700 | G35: =SUM(F35/7.5345) -> 163607.41 | H35: 135000 | I35: =SUM(H35/7.5345) -> 17917.579 | J35: 135000 | K35: =SUM(J35/7.5345) -> 17917.579
B36: -6 | C36: JAVNI RADOVI | D36: 70000 | E36: =SUM(D36/7.5345) -> 9290.5966 | F36: 70000 | G36: =SUM(F36/7.5345) -> 9290.5966 | H36: 70000 | I36: =SUM(H36/7.5345) -> 9290.5966 | J36: 70000 | K36: =SUM(J36/7.5345) -> 9290.5966
A37: 6382 | C37: Kapitalne pomoci od izvanproračunskih korisnika | D37: =SUM(D38) -> 0 | E37: =SUM(E38) -> 0 | F37: =SUM(F38) -> 0 | G37: =SUM(G38) -> 0 | H37: =SUM(H38) -> 0 | I37: =SUM(I38) -> 0 | J37: =SUM(J38) -> 0 | K37: =SUM(K38) -> 0
A38: 63821 | B38: -62 | C38: Kapitalne pomoći iz državnog proračuna temeljem prijenosa EU sredstava | D38: 0 | E38: =SUM(D38/7.5345) -> 0 | F38: 0 | G38: =SUM(F38/7.5345) -> 0 | H38: 0 | I38: =SUM(H38/7.5345) -> 0 | J38: 0 | K38: =SUM(J38/7.5345) -> 0
A39: 64 | C39: Prihodi od imovine | D39: =SUM(D40+D46) -> 676100 | E39: =SUM(E40+E46) -> 89733.891 | F39: =SUM(F40+F46) -> 676100 | G39: =SUM(G40+G46) -> 89733.891 | H39: =SUM(H40+H46) -> 676100 | I39: =SUM(I40+I46) -> 89733.891 | J39: =SUM(J40+J46) -> 676100 | K39: =SUM(K40+K46) -> 89733.891
A40: 641 | C40: Prihodi od financijske imovine | D40: =SUM(D41)+D43 -> 1100 | E40: =SUM(E41)+E43 -> 145.99509 | F40: =SUM(F41)+F43 -> 1100 | G40: =SUM(G41)+G43 -> 145.99509 | H40: =SUM(H41)+H43 -> 1100 | I40: =SUM(I41)+I43 -> 145.99509 | J40: =SUM(J41)+J43 -> 1100 | K40: =SUM(K41)+K43 -> 145.99509
A41: 6413 | C41: Kamate na orocena sredstva i depozite po | D41: =SUM(D42) -> 0 | E41: =SUM(E42) -> 0 | F41: =SUM(F42) -> 0 | G41: =SUM(G42) -> 0 | H41: =SUM(H42) -> 0 | I41: =SUM(I42) -> 0 | J41: =SUM(J42) -> 0 | K41: =SUM(K42) -> 0
...
